BEGIN:VCALENDAR
VERSION:2.0
PRODID:-//ChamberMaster//Event Calendar 2.0//EN
METHOD:PUBLISH
X-PUBLISHED-TTL:P3D
REFRESH-INTERVAL:P3D
CALSCALE:GREGORIAN
BEGIN:VEVENT
DTSTART:20210209T143000Z
DTEND:20210209T160000Z
X-MICROSOFT-CDO-ALLDAYEVENT:FALSE
SUMMARY:Ambassador Meeting
DESCRIPTION:Ambassador Meeting\n\nTuesday\, February 9\, 2021 at 8:30 am\n\nThe Visitors Center at Hampton Inn\n\n499 Singing Oaks\n\nSpriong Branch\, TX 78070
X-ALT-DESC;FMTTYPE=text/html:<strong>Ambassador Meeting<br />\nTuesday\, February 9\, 2021 at 8:30 am</strong><br />\nThe Visitors Center at Hampton Inn<br />\n499 Singing Oaks<br />\nSpriong Branch\, TX 78070
LOCATION:Visitor's Center at Hampton Inn 499 Singing Oaks Spring Branch\, TX 78070
UID:e.563.25338
SEQUENCE:3
DTSTAMP:20260424T185101Z
URL:http://bulverdechamber-gzcms.preview.gochambermaster.com/events/details/ambassador-meeting-25338
END:VEVENT

END:VCALENDAR
