BEGIN:VCALENDAR
VERSION:2.0
PRODID:-//ChamberMaster//Event Calendar 2.0//EN
METHOD:PUBLISH
X-PUBLISHED-TTL:P3D
REFRESH-INTERVAL:P3D
CALSCALE:GREGORIAN
BEGIN:VEVENT
DTSTART:20220113T143000Z
DTEND:20220113T153000Z
X-MICROSOFT-CDO-ALLDAYEVENT:FALSE
SUMMARY:Ambassador Meeting
DESCRIPTION:Ambassador Meeting\n\nJanuary 13\, 2022 at 8:30 am\n\nAy Chiwawa\n\n403 Singing Oaks\n\nSpring Branch \, TX 78070\n\n\n\nPlease note the 2022 Ambassador meetings will be held the 2nd Thursday of each month at 8:30 am.  The location - TBD
X-ALT-DESC;FMTTYPE=text/html:Ambassador Meeting<br />\nJanuary 13\, 2022 at 8:30 am<br />\nAy Chiwawa<br />\n403 Singing Oaks<br />\nSpring Branch \, TX 78070<br />\n<br />\nPlease note the 2022 Ambassador meetings will be held the 2nd Thursday of each month at 8:30 am.&nbsp\; The location - TBD
LOCATION:Ay Chiwawa 403 Singing Oaks Spring Branch\, TX 78070
UID:e.563.27043
SEQUENCE:3
DTSTAMP:20260424T012651Z
URL:http://bulverdechamber-gzcms.preview.gochambermaster.com/events/details/ambassador-meeting-27043
END:VEVENT

END:VCALENDAR
