BEGIN:VCALENDAR
VERSION:2.0
PRODID:-//ChamberMaster//Event Calendar 2.0//EN
METHOD:PUBLISH
X-PUBLISHED-TTL:P3D
REFRESH-INTERVAL:P3D
CALSCALE:GREGORIAN
BEGIN:VEVENT
DTSTART:20201204T150000Z
DTEND:20201204T160000Z
X-MICROSOFT-CDO-ALLDAYEVENT:FALSE
SUMMARY:Ambassador Meeting - in Person
DESCRIPTION:Ambassador Meeting\n\nFriday\, December 4\,  2020 at 9:00 am\n\nAy Chiwawa! Mexican Cafe
X-ALT-DESC;FMTTYPE=text/html:Ambassador Meeting<br />\nFriday\, December 4\,&nbsp\; 2020 at 9:00 am<br />\nAy Chiwawa! Mexican Cafe
LOCATION:
UID:e.563.25172
SEQUENCE:3
DTSTAMP:20260425T024558Z
URL:http://bulverdechamber-gzcms.preview.gochambermaster.com/events/details/ambassador-meeting-in-person-25172
END:VEVENT

END:VCALENDAR
