BEGIN:VCALENDAR
VERSION:2.0
PRODID:-//ChamberMaster//Event Calendar 2.0//EN
METHOD:PUBLISH
X-PUBLISHED-TTL:P3D
REFRESH-INTERVAL:P3D
CALSCALE:GREGORIAN
BEGIN:VEVENT
DTSTART:20240405T230000Z
DTEND:20240406T030000Z
X-MICROSOFT-CDO-ALLDAYEVENT:FALSE
SUMMARY:CASA of Central Texas - Annual Dinner & Auction
DESCRIPTION:Join us as we embark on a remarkable journey\, "Take a Cruise with CASA   Anchored in Advocacy Since 1985!" We invite you to don your creative cruise attire and meet us on the LIDO DECK.\n\n\n\nYour support has been invaluable in our mission to provide a safe and loving home for children in foster care. In 2023\, 225 advocates served 500 Central Texas children. Through the tireless dedication of CASA volunteers\, foster care children in Comal\, Guadalupe\, Hays\, and Caldwell Counties receive unparalleled advocacy that is truly irreplaceable. \n\nDon't miss out on this incredible evening including dinner\, entertainment\, and a silent & live auction. Act quickly to secure your place for this event\, which will make a lasting impact on the lives of our community's cherished children.
X-ALT-DESC;FMTTYPE=text/html:<p><span style="color:#00447C">Join us as we embark on a remarkable journey\, &quot\;Take a Cruise with CASA &ndash\; Anchored in Advocacy Since 1985!&quot\; We invite you to don your creative cruise attire and meet us on the LIDO DECK.<br />\n<br />\nYour support has been invaluable in our mission to provide a safe and loving home for children in foster care. In 2023\, 225 advocates served 500 Central Texas children. Through the tireless dedication of CASA volunteers\, foster care children in Comal\, Guadalupe\, Hays\, and Caldwell Counties receive unparalleled advocacy that is truly irreplaceable. </span></p>\n\n<p><span style="color:#00447C">Don&rsquo\;t miss out on this incredible evening including dinner\, entertainment\, and a silent &amp\; live auction. Act quickly to secure your place for this event\, which will make a lasting impact on the lives of our community&#39\;s cherished children.</span></p>\n
LOCATION:The Chandelier of Gruene 1924 Bretzke Lane New Braunfels\, Texas 78132
UID:e.563.35348
SEQUENCE:3
DTSTAMP:20260420T070656Z
URL:http://bulverdechamber-gzcms.preview.gochambermaster.com/events/details/casa-of-central-texas-annual-dinner-auction-35348
END:VEVENT

END:VCALENDAR
