BEGIN:VCALENDAR
VERSION:2.0
PRODID:-//ChamberMaster//Event Calendar 2.0//EN
METHOD:PUBLISH
X-PUBLISHED-TTL:P3D
REFRESH-INTERVAL:P3D
CALSCALE:GREGORIAN
BEGIN:VEVENT
DTSTART:20240625T133000Z
DTEND:20240625T144500Z
X-MICROSOFT-CDO-ALLDAYEVENT:FALSE
SUMMARY:Chamber Board of Directors Monthly Meeting
DESCRIPTION:Monthly Board of Directors Meeting\n\n\n\nAgenda\n\nFinancial Reports \n\nMembership Retention & Growth Report\n\nMinutes for the Meeting\n\nPresident's Report \n\nOffice Report -  \n\nCouncil Reports
X-ALT-DESC;FMTTYPE=text/html:<span style="font-size:14px\;">Monthly Board of Directors Meeting<br />\n<br />\n<a href="https://chambermaster.blob.core.windows.net/userfiles/UserFiles/chambers/563/File/AgendaJune25thMeeting.pdf">Agenda</a><br />\n<a href="https://chambermaster.blob.core.windows.net/userfiles/UserFiles/chambers/563/File/FinancialReportMay312024.pdf">Financial Reports&nbsp\;</a><br />\n<a href="https://chambermaster.blob.core.windows.net/userfiles/UserFiles/chambers/563/File/MembershipRetentionandGrowthReport.docx">Membership Retention &amp\; Growth Report</a></span><br />\n<span style="font-size:14px\;"><a href="https://chambermaster.blob.core.windows.net/userfiles/UserFiles/chambers/563/File/BSBChamberBODMeetingMinutes52824.pdf">Minutes for the Meeting</a><br />\n<a href="https://chambermaster.blob.core.windows.net/userfiles/UserFiles/chambers/563/File/PresidentsReport-June2024.pdf">President&#39\;s Report&nbsp\;</a></span><br />\n<span style="font-size:16px\;"><span style="font-size:14px\;"><a href="https://chambermaster.blob.core.windows.net/userfiles/UserFiles/chambers/563/File/OFFICEREPORTMay2024.pdf">Office Report -</a>&nbsp\;&nbsp\;</span></span><br />\n<a href="https://chambermaster.blob.core.windows.net/userfiles/UserFiles/chambers/563/File/CR-BECCouncil1.pdf">Council Reports&nbsp\;&nbsp\;</a><br />\n&nbsp\;
LOCATION:Board Meeting will be held In Person SONORA BANK - BOARD ROOM Come to the front door for entry.
UID:e.563.34692
SEQUENCE:3
DTSTAMP:20260420T035417Z
URL:http://bulverdechamber-gzcms.preview.gochambermaster.com/events/details/chamber-board-of-directors-monthly-meeting-06-25-2024-34692
END:VEVENT

END:VCALENDAR
