BEGIN:VCALENDAR
VERSION:2.0
PRODID:-//ChamberMaster//Event Calendar 2.0//EN
METHOD:PUBLISH
X-PUBLISHED-TTL:P3D
REFRESH-INTERVAL:P3D
CALSCALE:GREGORIAN
BEGIN:VEVENT
DTSTART:20200128T140000Z
DTEND:20200128T150000Z
X-MICROSOFT-CDO-ALLDAYEVENT:FALSE
SUMMARY:Chamber Board of Monthly Directors Meeting
DESCRIPTION:Monthly Board of Directors Meeting\n\n\n\nAgenda\n\nPresident's Report\n\nFinancial Reports\n\n2020 Proposed Budget\n\nDepository Resolution\n\nMinutes for the December 12 2019 Meeting\n\nCouncil Reports\n\nOffice Report
X-ALT-DESC;FMTTYPE=text/html:Monthly Board of Directors Meeting<br />\n<br />\n<a href="https://chambermaster.blob.core.windows.net/userfiles/UserFiles/chambers/563/File/AgendaJanuary282020.pdf">Agenda</a><br />\n<a href="https://chambermaster.blob.core.windows.net/userfiles/UserFiles/chambers/563/File/PresidentsReportJanuary2020.pdf">President&#39\;s Report</a><br />\n<a href="https://chambermaster.blob.core.windows.net/userfiles/UserFiles/chambers/563/File/December312019FinancialReport.pdf">Financial Reports</a><br />\n<a href="https://chambermaster.blob.core.windows.net/userfiles/UserFiles/chambers/563/File/Proposed2020Budget.pdf">2020 Proposed Budget</a><br />\n<a href="https://chambermaster.blob.core.windows.net/userfiles/UserFiles/chambers/563/File/BankResolution2020.pdf">Depository Resolution</a><br />\nMinutes for the December 12 2019 Meeting<br />\n<a href="https://chambermaster.blob.core.windows.net/userfiles/UserFiles/chambers/563/File/CouncilReportsJan2020.pdf">Council Reports</a><br />\n<a href="https://chambermaster.blob.core.windows.net/userfiles/UserFiles/chambers/563/File/OFFICEREPORT-December2019.pdf">Office Report</a>
LOCATION:Bulverde Visitor's & Event Center 499 Singing Oaks\, Ste 101 Spring Branch\, TX 78070
UID:e.563.23800
SEQUENCE:3
DTSTAMP:20260425T192719Z
URL:http://bulverdechamber-gzcms.preview.gochambermaster.com/events/details/chamber-board-of-monthly-directors-meeting-01-28-2020-23800
END:VEVENT

END:VCALENDAR
