BEGIN:VCALENDAR
VERSION:2.0
PRODID:-//ChamberMaster//Event Calendar 2.0//EN
METHOD:PUBLISH
X-PUBLISHED-TTL:P3D
REFRESH-INTERVAL:P3D
CALSCALE:GREGORIAN
BEGIN:VEVENT
DTSTART:20201027T130000Z
DTEND:20201027T140000Z
X-MICROSOFT-CDO-ALLDAYEVENT:FALSE
SUMMARY:Chamber Board of Monthly Directors Meeting
DESCRIPTION:Monthly Board of Directors Meeting\n\n\n\nAgenda\n\nPresident's Report\n\nFinancial Reports\n\nEvent P & L's\n\nMinutes for the September 22\, 2020 Meeting\n\nCouncil Reports\n\nOffice Report
X-ALT-DESC;FMTTYPE=text/html:Monthly Board of Directors Meeting<br />\n<br />\n<a href="https://chambermaster.blob.core.windows.net/userfiles/UserFiles/chambers/563/File/AgendaOctober272020.pdf">Agenda</a><br />\n<a href="https://chambermaster.blob.core.windows.net/userfiles/UserFiles/chambers/563/File/PresidentsReport-October1.pdf">President&#39\;s Report</a><br />\n<a href="https://chambermaster.blob.core.windows.net/userfiles/UserFiles/chambers/563/File/FinancialReport09302020.pdf">Financial Reports</a><br />\n<a href="https://chambermaster.blob.core.windows.net/userfiles/UserFiles/chambers/563/File/EventPLs102020.pdf">Event P &amp\; L&#39\;s</a><br />\nMinutes for the September 22\, 2020 Meeting<br />\n<a href="https://chambermaster.blob.core.windows.net/userfiles/UserFiles/chambers/563/File/COUNCILREPORTS-OCT2020.pdf">Council Reports</a><br />\n<a href="https://chambermaster.blob.core.windows.net/userfiles/UserFiles/chambers/563/File/OFFICEREPORT-September2020.pdf">Office Report</a>
LOCATION:Board Meeting will be held via a Zoom Call
UID:e.563.24451
SEQUENCE:3
DTSTAMP:20260425T035210Z
URL:http://bulverdechamber-gzcms.preview.gochambermaster.com/events/details/chamber-board-of-monthly-directors-meeting-10-27-2020-24451
END:VEVENT

END:VCALENDAR
