BEGIN:VCALENDAR
VERSION:2.0
PRODID:-//ChamberMaster//Event Calendar 2.0//EN
METHOD:PUBLISH
X-PUBLISHED-TTL:P3D
REFRESH-INTERVAL:P3D
CALSCALE:GREGORIAN
BEGIN:VEVENT
DTSTART:20210727T130000Z
DTEND:20210727T140000Z
X-MICROSOFT-CDO-ALLDAYEVENT:FALSE
SUMMARY:Chamber Board of Monthly Directors Meeting
DESCRIPTION:Monthly Board of Directors Meeting\n\n\n\nAgenda\n\nStrategic Plan Updates:\n\n    \n\nDirectors Term - Expirations\n\nFinancial Reports - June 30\, 2021\n\nBroadway Bank Signature Resolution\n\nMinutes for the June 22 2021 Meeting\n\nPresident's Report for July\n\nCouncil Reports\n\nOffice Report
X-ALT-DESC;FMTTYPE=text/html:Monthly Board of Directors Meeting<br />\n<br />\n<a href="https://chambermaster.blob.core.windows.net/userfiles/UserFiles/chambers/563/File/JulyAgenda2021.pdf">Agenda</a><br />\nStrategic Plan Updates:<br />\n&nbsp\;&nbsp\;&nbsp\;&nbsp\;<br />\n<a href="https://chambermaster.blob.core.windows.net/userfiles/UserFiles/chambers/563/File/DirectorsTermExpirationsDec.3120211.pdf">Directors Term - Expirations</a><br />\n<a href="https://chambermaster.blob.core.windows.net/userfiles/UserFiles/chambers/563/File/June30FinancialReport1.pdf">Financial Reports - June 30\, 2021</a><br />\n<a href="https://chambermaster.blob.core.windows.net/userfiles/UserFiles/chambers/563/File/BroadwayBankResolution-DepositoryChanges.pdf">Broadway Bank Signature Resolution</a><br />\n<a href="https://chambermaster.blob.core.windows.net/userfiles/UserFiles/chambers/563/File/BSBChamberBODMeetingMinutes062221.pdf">Minutes for the June 22 2021 Meeting</a><br />\n<a href="https://chambermaster.blob.core.windows.net/userfiles/UserFiles/chambers/563/File/JulyPresidentsReport2021.pdf">President&#39\;s Report for July</a><br />\n<a href="https://chambermaster.blob.core.windows.net/userfiles/UserFiles/chambers/563/File/CouncilReportsJuly20211.pdf">Council Reports</a><br />\n<a href="https://chambermaster.blob.core.windows.net/userfiles/UserFiles/chambers/563/File/OFFICEREPORT-June2021.pdf">Office Report</a>
LOCATION:Board Meeting will be held In Person at Sonora Bank - Conference Room Come to the front door for entry. If you cannot attend in person\, email Rhonda for a Zoom link
UID:e.563.26289
SEQUENCE:3
DTSTAMP:20260424T111059Z
URL:http://bulverdechamber-gzcms.preview.gochambermaster.com/events/details/chamber-board-of-monthly-directors-meeting-26289
END:VEVENT

END:VCALENDAR
