BEGIN:VCALENDAR
VERSION:2.0
PRODID:-//ChamberMaster//Event Calendar 2.0//EN
METHOD:PUBLISH
X-PUBLISHED-TTL:P3D
REFRESH-INTERVAL:P3D
CALSCALE:GREGORIAN
BEGIN:VEVENT
DTSTART:20210824T130000Z
DTEND:20210824T140000Z
X-MICROSOFT-CDO-ALLDAYEVENT:FALSE
SUMMARY:Chamber Board of Monthly Directors Meeting
DESCRIPTION:Monthly Board of Directors Meeting\n\n\n\nAgenda\n\nStrategic Plan Updates:\n\n Financial Reports - July 31\, 2021\n\nMinutes for the July 27 2021 Meeting\n\nPresident's Report for August\n\nCouncil Reports\n\nOffice Report
X-ALT-DESC;FMTTYPE=text/html:Monthly Board of Directors Meeting<br />\n<br />\n<a href="https://chambermaster.blob.core.windows.net/userfiles/UserFiles/chambers/563/File/AugustAgenda2021.pdf">Agenda</a><br />\nStrategic Plan Updates:<br />\n&nbsp\;<a href="https://chambermaster.blob.core.windows.net/userfiles/UserFiles/chambers/563/File/July31FinancialReport.pdf">Financial Reports - July 31\,&nbsp\;2021</a><br />\n<a href="https://chambermaster.blob.core.windows.net/userfiles/UserFiles/chambers/563/File/BSBChamberBODMeetingMinutes072721.pdf">Minutes for the July 27 2021 Meeting</a><br />\n<a href="https://chambermaster.blob.core.windows.net/userfiles/UserFiles/chambers/563/File/AugustPresidentsReport2021.pdf">President&#39\;s Report for August</a><br />\nCouncil Reports<br />\n<a href="https://chambermaster.blob.core.windows.net/userfiles/UserFiles/chambers/563/File/OFFICEREPORT-July2021.pdf">Office Report</a>
LOCATION:Board Meeting will be held In Person at Bulverde Visitor & Event Center If you cannot attend in person\, email Rhonda for a Zoom link
UID:e.563.26364
SEQUENCE:3
DTSTAMP:20260424T063143Z
URL:http://bulverdechamber-gzcms.preview.gochambermaster.com/events/details/chamber-board-of-monthly-directors-meeting-26364
END:VEVENT

END:VCALENDAR
