BEGIN:VCALENDAR
VERSION:2.0
PRODID:-//ChamberMaster//Event Calendar 2.0//EN
METHOD:PUBLISH
X-PUBLISHED-TTL:P3D
REFRESH-INTERVAL:P3D
CALSCALE:GREGORIAN
BEGIN:VEVENT
DTSTART:20230109T230000Z
DTEND:20230110T003000Z
X-MICROSOFT-CDO-ALLDAYEVENT:FALSE
SUMMARY:Comal ISD Job Fair
DESCRIPTION:Celebrate the New Year with a great new job! Comal ISD will be hosting a Job Fair\, January 9\, 2023 from 5:00-6:30PM. This event will be held at Support Services\, 1404 IH 35 North\, New Braunfels\, 78130. We are hiring all positions and we cannot wait to meet you!
X-ALT-DESC;FMTTYPE=text/html:Celebrate the New Year with a great new job! Comal ISD will be hosting a Job Fair\, January 9\, 2023 from 5:00-6:30PM. This event will be held at Support Services\, 1404 IH 35 North\, New Braunfels\, 78130. We are hiring all positions and we cannot wait to meet you!
LOCATION:Comal ISD Support Services Building
UID:e.563.28544
SEQUENCE:3
DTSTAMP:20260422T011455Z
URL:http://bulverdechamber-gzcms.preview.gochambermaster.com/events/details/comal-isd-job-fair-01-09-2023-28544
END:VEVENT

END:VCALENDAR
