BEGIN:VCALENDAR
VERSION:2.0
PRODID:-//ChamberMaster//Event Calendar 2.0//EN
METHOD:PUBLISH
X-PUBLISHED-TTL:P3D
REFRESH-INTERVAL:P3D
CALSCALE:GREGORIAN
BEGIN:VEVENT
DTSTART:20210804T220000Z
DTEND:20210805T000000Z
X-MICROSOFT-CDO-ALLDAYEVENT:FALSE
SUMMARY:Comal ISD Job Fair
DESCRIPTION:Comal ISD is where Purpose and Passion Meet!\n\n\n\nCome learn more about us at our August 4th JOB FAIR from 5PM - 7PM located at Support Services\, 1404 IH 35 N in New Braunfels!\n\n\n\nWe're hiring ALL Positions:\n\n	After-school child care\n	Custodians\n	Office staff\n	Paraprofessionals\n	Teachers\n	Transportation.\n\nFull-time and part-time opportunities available.\n\n\n\nWe can't wait to meet you!
X-ALT-DESC;FMTTYPE=text/html:Comal ISD is where Purpose and Passion Meet!<br />\n<br />\nCome learn more about us at our August 4th JOB FAIR from 5PM - 7PM located at Support Services\, 1404 IH 35 N in New Braunfels!<br />\n<br />\nWe&#39\;re hiring ALL Positions:\n<ul>\n	<li>After-school child care</li>\n	<li>Custodians</li>\n	<li>Office staff</li>\n	<li>Paraprofessionals</li>\n	<li>Teachers</li>\n	<li>Transportation.</li>\n</ul>\nFull-time and part-time opportunities available.<br />\n<br />\nWe can&#39\;t wait to meet you!
LOCATION:Comal ISD - Support Services
UID:e.563.25967
SEQUENCE:3
DTSTAMP:20260424T132438Z
URL:http://bulverdechamber-gzcms.preview.gochambermaster.com/events/details/comal-isd-job-fair-08-04-2021-25967
END:VEVENT

END:VCALENDAR
