BEGIN:VCALENDAR
VERSION:2.0
PRODID:-//ChamberMaster//Event Calendar 2.0//EN
METHOD:PUBLISH
X-PUBLISHED-TTL:P3D
REFRESH-INTERVAL:P3D
CALSCALE:GREGORIAN
BEGIN:VEVENT
DTSTART:20220901T220000Z
DTEND:20220902T000000Z
X-MICROSOFT-CDO-ALLDAYEVENT:FALSE
SUMMARY:Comal ISD Job Fair
DESCRIPTION:Join us for the Comal ISD Job Fair on Thursday\, September 1\, 2022 at Support Services (1404 IH 35 N) in New Braunfels from 5-7PM.\n\n\n\nWe are hiring for all positions!\n\n\n\nCome work where Purpose and Passion intersect. We cannot wait to meet you!
X-ALT-DESC;FMTTYPE=text/html:Join us for the Comal ISD Job Fair on Thursday\, September 1\, 2022 at Support Services (1404 IH 35 N) in New Braunfels from 5-7PM.<br />\n<br />\nWe are hiring for all positions!<br />\n<br />\nCome work where Purpose and Passion intersect. We cannot wait to meet you!
LOCATION:Comal ISD Support Services
UID:e.563.27668
SEQUENCE:3
DTSTAMP:20260422T223646Z
URL:http://bulverdechamber-gzcms.preview.gochambermaster.com/events/details/comal-isd-job-fair-09-01-2022-27668
END:VEVENT

END:VCALENDAR
