BEGIN:VCALENDAR
VERSION:2.0
PRODID:-//ChamberMaster//Event Calendar 2.0//EN
METHOD:PUBLISH
X-PUBLISHED-TTL:P3D
REFRESH-INTERVAL:P3D
CALSCALE:GREGORIAN
BEGIN:VEVENT
DTSTART:20211112T000000Z
DTEND:20211112T013000Z
X-MICROSOFT-CDO-ALLDAYEVENT:FALSE
SUMMARY:Comal ISD Job Fair
DESCRIPTION:Come learn more about us at our November 11th job fair from 6PM-7:30PM located at Pieper High School\, 1400 Kinder Parkway\, San Antonio\, 78260.\n\n\n\nWe're hiring ALL Positions: \n\n	After-school childcare\n	Bus drivers and assistants\n	Custodians \n	Office staff\n	Paraprofessionals\n	Substitutes\n	Teachers\n\nFull-time and part-time opportunities available. We can't wait to meet you!
X-ALT-DESC;FMTTYPE=text/html:<span style="font-size:16px\;"><span style="font-family:verdana\;">Come learn more about us at our November 11th job fair from 6PM-7:30PM located at Pieper High School\, 1400 Kinder Parkway\, San Antonio\, 78260.<br />\n<br />\nWe&#39\;re hiring ALL Positions: </span></span>\n<ul>\n	<li><span style="font-size:16px\;"><span style="font-family:verdana\;">After-school childcare</span></span></li>\n	<li><span style="font-size:16px\;"><span style="font-family:verdana\;">Bus drivers and assistants</span></span></li>\n	<li><span style="font-size:16px\;"><span style="font-family:verdana\;">Custodians&nbsp\;</span></span></li>\n	<li><span style="font-size:16px\;"><span style="font-family:verdana\;">Office staff</span></span></li>\n	<li><span style="font-size:16px\;"><span style="font-family:verdana\;">Paraprofessionals</span></span></li>\n	<li><span style="font-size:16px\;"><span style="font-family:verdana\;">Substitutes</span></span></li>\n	<li><span style="font-size:16px\;"><span style="font-family:verdana\;">Teachers</span></span></li>\n</ul>\n<span style="font-size:16px\;"><span style="font-family:verdana\;">Full-time and part-time opportunities available. We can&#39\;t wait to meet you!</span></span>
LOCATION:Pieper High School
UID:e.563.26453
SEQUENCE:3
DTSTAMP:20260424T011119Z
URL:http://bulverdechamber-gzcms.preview.gochambermaster.com/events/details/comal-isd-job-fair-11-11-2021-26453
END:VEVENT

END:VCALENDAR
