BEGIN:VCALENDAR
VERSION:2.0
PRODID:-//ChamberMaster//Event Calendar 2.0//EN
METHOD:PUBLISH
X-PUBLISHED-TTL:P3D
REFRESH-INTERVAL:P3D
CALSCALE:GREGORIAN
BEGIN:VEVENT
DTSTART:20200220T160000Z
DTEND:20200220T170000Z
X-MICROSOFT-CDO-ALLDAYEVENT:FALSE
SUMMARY:Gardening Series - Challenges of Vegetable Gardening in Comal County
DESCRIPTION:Emily Staats will present on vegetable gardening and will include garden site/style\, plant selection\, hydration and harvesting. Registration is suggested to reserve a seat but not required.\n\n\nThis program is free and open to the public.
X-ALT-DESC;FMTTYPE=text/html:<p>Emily Staats will present on vegetable gardening and will include garden site/style\, plant selection\, hydration and harvesting. Registration is suggested to reserve a seat but not required.</p>\n\n<hr />\n<p>This program is free and open to the public.</p>\n
LOCATION:Mammen Family Public Library
UID:e.563.24098
SEQUENCE:3
DTSTAMP:20260425T180625Z
URL:http://bulverdechamber-gzcms.preview.gochambermaster.com/events/details/gardening-series-challenges-of-vegetable-gardening-in-comal-county-24098
END:VEVENT

END:VCALENDAR
