BEGIN:VCALENDAR
VERSION:2.0
PRODID:-//ChamberMaster//Event Calendar 2.0//EN
METHOD:PUBLISH
X-PUBLISHED-TTL:P3D
REFRESH-INTERVAL:P3D
CALSCALE:GREGORIAN
BEGIN:VEVENT
DTSTART:20200129T230000Z
DTEND:20200129T233000Z
X-MICROSOFT-CDO-ALLDAYEVENT:FALSE
SUMMARY:Groundbreaking for Prime Ventures Commercial Real Estate & Property Management
DESCRIPTION:Groundbreaking for\n\nPrime Ventures Commercial Real Estate & Property Management\n\nWednesday\, January 29\, 2020 at 5:00 pm\n\nGround Breaking Ceremony for new Office Building in Faithville \n\n17080 Hwy 46 W\, Ste 108 A\n\nSpring Branch\, TX 78070 \n\n210-920-1001\n\nmisty@primeventurestx.com
X-ALT-DESC;FMTTYPE=text/html:Groundbreaking for<br />\n<span style="font-size:18px\;"><strong>Prime Ventures Commercial Real Estate &amp\; Property Management</strong></span><br />\nWednesday\, January 29\, 2020 at 5:00 pm<br />\n<em><strong>Ground Breaking Ceremony for new Office Building in Faithville&nbsp\;</strong></em><br />\n17080 Hwy 46 W\, Ste 108 A<br />\nSpring Branch\, TX 78070&nbsp\;<br />\n210-920-1001<br />\nmisty@primeventurestx.com&nbsp\;<br />\n&nbsp\;
LOCATION:17080 Hwy 46 W\, Ste 108 A Spring Branch\, TX 78070 (Faithville)
UID:e.563.24073
SEQUENCE:3
DTSTAMP:20260425T192721Z
URL:http://bulverdechamber-gzcms.preview.gochambermaster.com/events/details/groundbreaking-for-prime-ventures-commercial-real-estate-property-management-24073
END:VEVENT

END:VCALENDAR
