BEGIN:VCALENDAR
VERSION:2.0
PRODID:-//ChamberMaster//Event Calendar 2.0//EN
METHOD:PUBLISH
X-PUBLISHED-TTL:P3D
REFRESH-INTERVAL:P3D
CALSCALE:GREGORIAN
BEGIN:VEVENT
DTSTART:20220510T230000Z
DTEND:20220510T233000Z
X-MICROSOFT-CDO-ALLDAYEVENT:FALSE
SUMMARY:Groundbreaking for the New Bulverde Police Department Building
DESCRIPTION:Join the Chamber and the City of Bulverde at the Groundbreaking for the New Bulverde Police Department Building.
X-ALT-DESC;FMTTYPE=text/html:Join the Chamber and the City of Bulverde at the Groundbreaking for the New Bulverde Police Department Building.&nbsp\;&nbsp\;
LOCATION:Heimer Cove (Directly behind Bulverde City Hall
UID:e.563.27404
SEQUENCE:3
DTSTAMP:20260423T070548Z
URL:http://bulverdechamber-gzcms.preview.gochambermaster.com/events/details/groundbreaking-for-the-new-bulverde-police-department-building-27404
END:VEVENT

END:VCALENDAR
