BEGIN:VCALENDAR
VERSION:2.0
PRODID:-//ChamberMaster//Event Calendar 2.0//EN
METHOD:PUBLISH
X-PUBLISHED-TTL:P3D
REFRESH-INTERVAL:P3D
CALSCALE:GREGORIAN
BEGIN:VEVENT
DTSTART:20210629T170000Z
DTEND:20210629T181500Z
X-MICROSOFT-CDO-ALLDAYEVENT:FALSE
SUMMARY:In-Person: Nature Photography Series
DESCRIPTION:Session 3 will be a more technical session but at an introductory level. Topics will include:\n\n\n	How to choose a lens for the photos that you envision (wide angle\, mid-range\, telephoto) \n	The triangle of exposure (ISO\, shutter speed and aperture) \n	How each affects the outcome of your photos. \n	How to achieve sharp focus and pleasing blurs. \n	Discussion of the various shooting modes on your camera and how to use them in artful ways. \n	Quick mention of software choices for your post processing options.\n\n\nNote that you do not need to bring an understanding of these topics to this session. It is meant to open doors for you as to what possibilities are out there for your photography efforts and to help you begin to explore the fun of nature photography.\n\nPlease cancel your seat for in-person events if you can not make the class so others have the opportunity to attend. \n\n\n\nRegistration is required for each event in the Nature Photography Series. This series is only offered in-person.
X-ALT-DESC;FMTTYPE=text/html:<p style="box-sizing: border-box\; margin: 0px 0px 10px\; font-family: Arial\, Helvetica\, Verdana\; font-size: 12px\;"><span style="font-family:verdana\;"><span style="font-size:14px\;">Session 3 will be a more technical session but at an introductory level. Topics will include:</span></span></p>\n\n<ul>\n	<li style="box-sizing: border-box\; margin: 0px 0px 10px\; font-family: Arial\, Helvetica\, Verdana\; font-size: 12px\;"><span style="font-family:verdana\;"><span style="font-size:14px\;">How to choose a lens for the photos that you envision (wide angle\, mid-range\, telephoto) </span></span></li>\n	<li style="box-sizing: border-box\; margin: 0px 0px 10px\; font-family: Arial\, Helvetica\, Verdana\; font-size: 12px\;"><span style="font-family:verdana\;"><span style="font-size:14px\;">The triangle of exposure (ISO\, shutter speed and aperture) </span></span></li>\n	<li style="box-sizing: border-box\; margin: 0px 0px 10px\; font-family: Arial\, Helvetica\, Verdana\; font-size: 12px\;"><span style="font-family:verdana\;"><span style="font-size:14px\;">How each affects the outcome of your photos. </span></span></li>\n	<li style="box-sizing: border-box\; margin: 0px 0px 10px\; font-family: Arial\, Helvetica\, Verdana\; font-size: 12px\;"><span style="font-family:verdana\;"><span style="font-size:14px\;">How to achieve sharp focus and pleasing blurs. </span></span></li>\n	<li style="box-sizing: border-box\; margin: 0px 0px 10px\; font-family: Arial\, Helvetica\, Verdana\; font-size: 12px\;"><span style="font-family:verdana\;"><span style="font-size:14px\;">Discussion of the various shooting modes on your camera and how to use them in artful ways. </span></span></li>\n	<li style="box-sizing: border-box\; margin: 0px 0px 10px\; font-family: Arial\, Helvetica\, Verdana\; font-size: 12px\;"><span style="font-family:verdana\;"><span style="font-size:14px\;">Quick mention of software choices for your post processing options.</span></span></li>\n</ul>\n\n<p style="box-sizing: border-box\; margin: 0px 0px 10px\; font-family: Arial\, Helvetica\, Verdana\; font-size: 12px\;"><span style="font-family:verdana\;"><span style="font-size:14px\;">Note that you do not need to bring an understanding of these topics to this session. It is meant to open doors for you as to what possibilities are out there for your photography efforts and to help you begin to explore the fun of nature photography.</span></span></p>\n\n<p style="box-sizing: border-box\; margin: 0px 0px 10px\; font-family: Arial\, Helvetica\, Verdana\; font-size: 12px\;"><span style="font-size: 14px\; font-family: verdana\;">Please cancel your seat for in-person events if you can not make the class so others have the opportunity to attend.&nbsp\;</span></p>\n\n<p><br />\n<span style="font-family:verdana\;"><span style="font-size:14px\;">Registration is required for each event in the Nature Photography Series. This series is only offered in-person.</span></span></p>\n
LOCATION:Mammen Family Public Library
UID:e.563.25864
SEQUENCE:3
DTSTAMP:20260424T165436Z
URL:http://bulverdechamber-gzcms.preview.gochambermaster.com/events/details/in-person-nature-photography-series-06-29-2021-25864
END:VEVENT

END:VCALENDAR
