BEGIN:VCALENDAR
VERSION:2.0
PRODID:-//ChamberMaster//Event Calendar 2.0//EN
METHOD:PUBLISH
X-PUBLISHED-TTL:P3D
REFRESH-INTERVAL:P3D
CALSCALE:GREGORIAN
BEGIN:VEVENT
DTSTART:20230811T130000Z
DTEND:20230811T190000Z
X-MICROSOFT-CDO-ALLDAYEVENT:FALSE
SUMMARY:KCWS Charity Clay Shoot
DESCRIPTION:The Kendall County Women's Shelter Invites you to the annual Charity Clay Shoot at Joshua Creek Ranch on August 11\, 2023.\n\n\n\nThis year will feature a fun day of sporting clay shooting\, raffle prizes\, good food\, and even better company.\n\n	Award Categories 1st-3rd Place Teams - Each team member takes home an award. \n	1st-3rd Place individual Awards Highest Scoring\n	All Womens Team - Each team member will take home an award.\n	NEW! 1st-3rd Place Minor Team (under 18) - Each team member takes home an award.
X-ALT-DESC;FMTTYPE=text/html:The Kendall County Women&#39\;s Shelter Invites you to the annual Charity Clay Shoot at Joshua Creek Ranch on August 11\, 2023.<br />\n<br />\nThis year will feature a fun day of sporting clay shooting\, raffle prizes\, good food\, and even better company.\n<ul>\n	<li>Award Categories 1st-3rd Place Teams - Each team member takes home an award.&nbsp\;</li>\n	<li>1st-3rd Place individual Awards Highest Scoring</li>\n	<li>All Womens Team - Each team member will take home an award.</li>\n	<li>NEW! 1st-3rd Place Minor Team (under 18) - Each team member takes home an award.</li>\n</ul>\n
LOCATION:Joshua Creek Ranch CLICK HERE for Joshua Creek Ranch Alternate Flood Directions & Map. Download Map & Info Here.
UID:e.563.32259
SEQUENCE:3
DTSTAMP:20260421T063722Z
URL:http://bulverdechamber-gzcms.preview.gochambermaster.com/events/details/kcws-charity-clay-shoot-32259
END:VEVENT

END:VCALENDAR
