BEGIN:VCALENDAR
VERSION:2.0
PRODID:-//ChamberMaster//Event Calendar 2.0//EN
METHOD:PUBLISH
X-PUBLISHED-TTL:P3D
REFRESH-INTERVAL:P3D
CALSCALE:GREGORIAN
BEGIN:VEVENT
DTSTART:20231230T210000Z
DTEND:20231231T000000Z
X-MICROSOFT-CDO-ALLDAYEVENT:FALSE
SUMMARY:Keith Davis:: LIVE @ THE GOAT!!
DESCRIPTION:
X-ALT-DESC;FMTTYPE=text/html:
LOCATION:
UID:e.563.34390
SEQUENCE:3
DTSTAMP:20260420T234731Z
URL:http://bulverdechamber-gzcms.preview.gochambermaster.com/events/details/keith-davis-live-the-goat-34390
END:VEVENT

END:VCALENDAR
