BEGIN:VCALENDAR
VERSION:2.0
PRODID:-//ChamberMaster//Event Calendar 2.0//EN
METHOD:PUBLISH
X-PUBLISHED-TTL:P3D
REFRESH-INTERVAL:P3D
CALSCALE:GREGORIAN
BEGIN:VEVENT
DTSTART:20210410T220000Z
DTEND:20210411T010000Z
X-MICROSOFT-CDO-ALLDAYEVENT:FALSE
SUMMARY:Live music with Hunter Billingsley Rough Diamond Brewery Saturday\, April 10\, 2021 : 5-8pm
DESCRIPTION:The talented Hunter Billingsley will be performing live on Saturday\, April 10\, 2021 :  5-8pm at Rough Diamond Brewery. Hunter is a full-time singer & guitarist\, seasoned beyond his years. With a wide-ranging set of old and new songs\, his on-the-spot improvisational music will feature something for everyone. Enjoy great beer\, delicious food and live music in Texas Hill Country.
X-ALT-DESC;FMTTYPE=text/html:The talented Hunter Billingsley will be performing live on Saturday\, April 10\, 2021 :&nbsp\; 5-8pm at Rough Diamond Brewery. Hunter is a full-time singer &amp\; guitarist\, seasoned beyond his years. With a wide-ranging set of old and new songs\, his on-the-spot improvisational music will feature something for everyone. Enjoy great beer\, delicious food and live music in Texas Hill Country.
LOCATION:Rough Diamond Brewery
UID:e.563.25620
SEQUENCE:3
DTSTAMP:20260424T160519Z
URL:http://bulverdechamber-gzcms.preview.gochambermaster.com/events/details/live-music-with-hunter-billingsley-rough-diamond-brewery-saturday-april-10-2021-5-8pm-25620
END:VEVENT

END:VCALENDAR
