BEGIN:VCALENDAR
VERSION:2.0
PRODID:-//ChamberMaster//Event Calendar 2.0//EN
METHOD:PUBLISH
X-PUBLISHED-TTL:P3D
REFRESH-INTERVAL:P3D
CALSCALE:GREGORIAN
BEGIN:VEVENT
DTSTART:20210626T220000Z
DTEND:20210627T010000Z
X-MICROSOFT-CDO-ALLDAYEVENT:FALSE
SUMMARY:Live Music with Megan Ashley at Rough Diamond Brewery Saturday\, June 26 from 5-8 pm
DESCRIPTION:Live Music with Megan Ashley at Rough Diamond Brewery Saturday\, June 26\, 2021 from 5-8 PM.\n\n\n\nMegan Ashley is a singer-songwriter and Nashville recording artist\, who was born and raised in the Texas Hill Country area. Megan's first single off the record "River Time" landed on the Top 50 on all Texas Radio Charts and was played on Texas Country radio stations for over 22 weeks! In 2019 she was nominated on Texas Regional Radio's New Female Vocalist of the Year and is also a member of the Texas Country Music Association and heavily involved with the TCMA Awards\,\n\n\n\nWith a classic sound from growing up in 90's country\, Megan adds a modern classy twist to her music.
X-ALT-DESC;FMTTYPE=text/html:Live Music with Megan Ashley at Rough Diamond Brewery Saturday\, June 26\, 2021 from 5-8 PM.<br />\n<br />\nMegan Ashley is a singer-songwriter and Nashville recording artist\, who was born and raised in the Texas Hill Country area. Megan&rsquo\;s first single off the record &ldquo\;River Time&rdquo\; landed on the Top 50 on all Texas Radio Charts and was played on Texas Country radio stations for over 22 weeks! In 2019 she was nominated on Texas Regional Radio&rsquo\;s New Female Vocalist of the Year and is also a member of the Texas Country Music Association and heavily involved with the TCMA Awards\,<br />\n<br />\nWith a classic sound from growing up in 90&rsquo\;s country\, Megan adds a modern classy twist to her music.
LOCATION:Rough Diamond Brewery
UID:e.563.25937
SEQUENCE:3
DTSTAMP:20260424T134828Z
URL:http://bulverdechamber-gzcms.preview.gochambermaster.com/events/details/live-music-with-megan-ashley-at-rough-diamond-brewery-saturday-june-26-from-5-8-pm-25937
END:VEVENT

END:VCALENDAR
