BEGIN:VCALENDAR
VERSION:2.0
PRODID:-//ChamberMaster//Event Calendar 2.0//EN
METHOD:PUBLISH
X-PUBLISHED-TTL:P3D
REFRESH-INTERVAL:P3D
CALSCALE:GREGORIAN
BEGIN:VEVENT
DTSTART:20210417T220000Z
DTEND:20210418T010000Z
X-MICROSOFT-CDO-ALLDAYEVENT:FALSE
SUMMARY:Live Music with Natalie Rose: April 17\, 2021 from 5-8pm at Rough Diamond Brewery
DESCRIPTION:Join us this coming Saturday for Live Music with Natalie Rose: April 17\, 2021 from 5-8pm at Rough Diamond Brewery. Natalie Rose is a singer/songwriter based in South Texas. Natalie has released 7 singles to Texas Radio and the Texas Music Scene\, reaching #7 with her single\, "Conformity" and #3 with her single\, "My South". She considers herself falling under the Americana genre and enjoys performing her own originals\, classic and newer Country covers\, along with a little Classic Rock and Pop.
X-ALT-DESC;FMTTYPE=text/html:Join us this coming Saturday for Live Music with Natalie Rose: April 17\, 2021 from 5-8pm at Rough Diamond Brewery. Natalie Rose is a singer/songwriter based in South Texas. Natalie has released 7 singles to Texas Radio and the Texas Music Scene\, reaching #7 with her single\, &quot\;Conformity&quot\; and #3 with her single\, &quot\;My South&quot\;. She considers herself falling under the Americana genre and enjoys performing her own originals\, classic and newer Country covers\, along with a little Classic Rock and Pop.
LOCATION:Rough Diamond Brewery
UID:e.563.25636
SEQUENCE:3
DTSTAMP:20260424T155729Z
URL:http://bulverdechamber-gzcms.preview.gochambermaster.com/events/details/live-music-with-natalie-rose-april-17-2021-from-5-8pm-at-rough-diamond-brewery-25636
END:VEVENT

END:VCALENDAR
