BEGIN:VCALENDAR
VERSION:2.0
PRODID:-//ChamberMaster//Event Calendar 2.0//EN
METHOD:PUBLISH
X-PUBLISHED-TTL:P3D
REFRESH-INTERVAL:P3D
CALSCALE:GREGORIAN
BEGIN:VEVENT
DTSTART:20220721T163000Z
DTEND:20220721T173000Z
X-MICROSOFT-CDO-ALLDAYEVENT:FALSE
SUMMARY:Membership Council Meeting
DESCRIPTION:Membership Council Meeting\n\n\n\nWe would like to get the Membership Council back up and running again. \n\n\n\nWe will be creating a policy on Member of the Month selections\, and reviewing Membership Levels and benefits and review and begin the process for Annual Awards.
X-ALT-DESC;FMTTYPE=text/html:Membership Council Meeting<br />\n<br />\nWe would like to get the Membership Council back up and running again.&nbsp\;<br />\n<br />\nWe will be creating a policy on Member of the Month selections\, and reviewing Membership Levels and benefits and review and begin the process for Annual Awards.&nbsp\;&nbsp\;
LOCATION:BSB Chamber of Commerce Office
UID:e.563.27646
SEQUENCE:3
DTSTAMP:20260422T223609Z
URL:http://bulverdechamber-gzcms.preview.gochambermaster.com/events/details/membership-council-meeting-27646
END:VEVENT

END:VCALENDAR
