BEGIN:VCALENDAR
VERSION:2.0
PRODID:-//ChamberMaster//Event Calendar 2.0//EN
METHOD:PUBLISH
X-PUBLISHED-TTL:P3D
REFRESH-INTERVAL:P3D
CALSCALE:GREGORIAN
BEGIN:VEVENT
DTSTART:20240401T130000Z
DTEND:20240401T160000Z
X-MICROSOFT-CDO-ALLDAYEVENT:FALSE
SUMMARY:Mimosa Mondays with Goat Cuddles
DESCRIPTION:Join us for Mimosa Mondays @ THE GOAT every Monday morning. Mimosa Mondays is the perfect blend of relaxation\, deliciousness\, and adorable animal companionship!
X-ALT-DESC;FMTTYPE=text/html:<span style="font-size:14px\;"><strong>Join us for Mimosa Mondays @ THE GOAT every Monday morning. Mimosa Mondays is the perfect blend of relaxation\, deliciousness\, and adorable animal companionship!</strong></span>
LOCATION:Screaming Goat Yard and Tap
UID:e.563.33099
SEQUENCE:3
DTSTAMP:20260420T070807Z
URL:http://bulverdechamber-gzcms.preview.gochambermaster.com/events/details/mimosa-mondays-with-goat-cuddles-04-01-2024-33099
END:VEVENT

END:VCALENDAR
