BEGIN:VCALENDAR
VERSION:2.0
PRODID:-//ChamberMaster//Event Calendar 2.0//EN
METHOD:PUBLISH
X-PUBLISHED-TTL:P3D
REFRESH-INTERVAL:P3D
CALSCALE:GREGORIAN
BEGIN:VEVENT
DTSTART:20230513T200000Z
DTEND:20230513T220000Z
X-MICROSOFT-CDO-ALLDAYEVENT:FALSE
SUMMARY:Mother Daughter Belly Dance
DESCRIPTION:Mother's Day Belly dance Workshop Special\n\nLooking for an opportunity to do something memorable for Mother's Day?  Come try belly dancing! \n\n\n\nJoin Sarah for this special female connection dance workshop.  Mothers and daughters and/or female figures and children ages 6 and up are welcome to participate in this 2 hour workshop.  All will learn basic belly dance movements and concepts while working together as a team with some fun and creative belly dance games! \n\n\n\nThe workshop will not only bond and strengthen your own female relationship together\, but also provide individual confidence for both maternal figures & younger females.  Enjoy the unique experience of trying something new\, making some memories and most of all\, having fun!   \n\nAll props will be provided or you can bring your own if you prefer.  Wear whatever you are comfortable in (yoga/athletic attire preferred) however no jeans please.  Bare feet or socks are best for feet.  All levels and abilities are welcome!  \n\nBio: \n\nSarah Hummel has over 40 years of movement experience\, earning her bachelors & master's degree in dance.  While she has knowledge in many styles of dance\, belly dance (Raqs Sharqi) provided her with not only a professional performing & teaching career but also thrusted her into a personal journey with body confidence\, acceptance\, love and growth. \n\nHer technical approach blended with the natural creativity the dance form bestows she creates an environment that welcomes all to explore their own unique gifts and abilities in a positive & supportive environment. She enjoys watching each dancer grow into more confident people\, understanding that their bodies are a conduit to individual celebration!\n\n\n\nRegister here: https://house-of-healing.heymarvelous.com/event/details/655577
X-ALT-DESC;FMTTYPE=text/html:<h1>Mother&rsquo\;s Day Belly dance Workshop Special</h1>\n\n<p>Looking for an opportunity to do something memorable for Mother&rsquo\;s Day?&nbsp\; Come try belly dancing!&nbsp\;<br />\n<br />\nJoin Sarah for this special female connection dance workshop.&nbsp\; Mothers and daughters and/or female figures and children ages 6 and up are welcome to participate in this 2 hour workshop.&nbsp\; All will learn basic belly dance movements and concepts while working together as a team with some fun and creative belly dance games!&nbsp\;<br />\n<br />\nThe workshop will not only bond and strengthen your own female relationship together\, but also provide individual confidence for both maternal figures &amp\; younger females.&nbsp\; Enjoy the unique experience of trying something new\, making some memories and most of all\, having fun!&nbsp\;&nbsp\;&nbsp\;</p>\n\n<p>All props will be provided or you can bring your own if you prefer.&nbsp\; Wear whatever you are comfortable in (yoga/athletic attire preferred) however no jeans please.&nbsp\; Bare feet or socks are best for feet.&nbsp\; All levels and abilities are welcome!&nbsp\;&nbsp\;</p>\n\n<p>Bio:&nbsp\;</p>\n\n<p>Sarah Hummel has over 40 years of movement experience\, earning her bachelors &amp\; master&rsquo\;s degree in dance.&nbsp\; While she has knowledge in many styles of dance\, belly dance (Raqs Sharqi) provided her with not only a professional performing &amp\; teaching career but also thrusted her into a personal journey with body confidence\, acceptance\, love and growth.&nbsp\;</p>\n\n<p>Her technical approach blended with the natural creativity the dance form bestows she creates an environment that welcomes all to explore their own unique gifts and abilities in a positive &amp\; supportive environment. She enjoys watching each dancer grow into more confident people\, understanding that their bodies are a conduit to individual celebration!<br />\n<br />\nRegister here:&nbsp\;<a href="https://house-of-healing.heymarvelous.com/event/details/655577">https://house-of-healing.heymarvelous.com/event/details/655577</a></p>\n
LOCATION:House of Healing at The District on 46
UID:e.563.32132
SEQUENCE:3
DTSTAMP:20260421T170616Z
URL:http://bulverdechamber-gzcms.preview.gochambermaster.com/events/details/mother-daughter-belly-dance-32132
END:VEVENT

END:VCALENDAR
