BEGIN:VCALENDAR
VERSION:2.0
PRODID:-//ChamberMaster//Event Calendar 2.0//EN
METHOD:PUBLISH
X-PUBLISHED-TTL:P3D
REFRESH-INTERVAL:P3D
CALSCALE:GREGORIAN
BEGIN:VEVENT
DTSTART:20200227T170500Z
DTEND:20200227T193000Z
X-MICROSOFT-CDO-ALLDAYEVENT:FALSE
SUMMARY:One More Customer Roundtable
DESCRIPTION:The One More Customer monthly event brings small business owners\, community leaders\, and individuals together in one location to network\, exchange business cards\, build relationships and enjoy a light lunch.\n\n\n\nFran Tarkenton and a special guest present a 20-25 minute video webcast with an insightful business coaching session. Guests include CEOs\, bestselling authors\, motivators\, entrepreneurs\, marketers\, real estate moguls\, and other movers and shakers\, with a special focus on sales\, marketing\, and customer service.\n\n\n\nThe agenda:\n\n	Arrival and informal mixer\n	Live broadcast\n	Discussion about the topics presented\n	Introductions and passing of business cards\n	Close\n\n\n\nTHIS MONTH'S TOPIC\n\nThis month we get coached by a dynamic husband-wife entrepreneur team who have built successful businesses both together and as individuals in the real estate and home remodeling industry. Join us to learn their tips for working together as a team\, setting goals and growing sales\, getting the most out of coaching\, and more. This will be a great discussion to kick off your 2020!
X-ALT-DESC;FMTTYPE=text/html:The&nbsp\;<strong>One More Customer</strong>&nbsp\;monthly event brings small business owners\, community leaders\, and individuals together in one location to network\, exchange business cards\, build relationships and enjoy a light lunch.<br />\n<br />\nFran Tarkenton and a special guest present a 20-25 minute video webcast with an insightful business coaching session. Guests include CEOs\, bestselling authors\, motivators\, entrepreneurs\, marketers\, real estate moguls\, and other movers and shakers\, with a special focus on sales\, marketing\, and customer service.<br />\n<br />\nThe agenda:\n<ul>\n	<li>Arrival and informal mixer</li>\n	<li>Live broadcast</li>\n	<li>Discussion about the topics presented</li>\n	<li>Introductions and passing of business cards</li>\n	<li>Close</li>\n</ul>\n\n<hr />\n<h3><em>THIS MONTH&#39\;S TOPIC</em></h3>\n\n<p><span style="color:#636363"><span style="font-family:arial\,sans-serif"><span style="font-size:10.5pt">This month we get coached by a dynamic husband-wife entrepreneur team who have built successful businesses both together and as individuals in the real estate and home remodeling industry. Join us to learn their tips for working together as a team\, setting goals and growing sales\, getting the most out of coaching\, and more. This will be a great discussion to kick off your 2020!</span></span></span><br />\n&nbsp\;</p>\n
LOCATION:VenturePoint\, Stone Oak 21750 Hardy Oak Blvd.\, Suite 102 San Antonio\, TX 78258 210-598-5595
UID:e.563.24314
SEQUENCE:3
DTSTAMP:20260425T222940Z
URL:http://bulverdechamber-gzcms.preview.gochambermaster.com/events/details/one-more-customer-roundtable-02-27-2020-24314
END:VEVENT

END:VCALENDAR
