BEGIN:VCALENDAR
VERSION:2.0
PRODID:-//ChamberMaster//Event Calendar 2.0//EN
METHOD:PUBLISH
X-PUBLISHED-TTL:P3D
REFRESH-INTERVAL:P3D
CALSCALE:GREGORIAN
BEGIN:VEVENT
DTSTART:20201106T000000Z
DTEND:20201106T014500Z
X-MICROSOFT-CDO-ALLDAYEVENT:FALSE
SUMMARY:Online- Adobe Users Group: Choosing Focus Keyphrases for SEO
DESCRIPTION:Choosing Focus Keyphrases for SEO\n\n						How do you choose the perfect focus keyword or key phrase? Although it's not an exact science\, Kay Guenther\, SAWS Assistant UG Manager\, will show you how to get started in selecting the best keyphrases to help improve your SEO ranking.\n						\n					\n				\n			\n			\n		\n	\n\n\nShort Program\n\nDouble Background Images\n\nGlyn Barrows\, AAMUG UG Manager\, will show us how to add two images\, one on top of the other\, using CSS. This technique\, developed by Glyn\, is especially beneficial when designing a banner on a website. A must see to understand.\n\n\n\n \n\nBenefits of joining the meeting:\n\nBe entered for a chance to win\n\n\n	a 12-month Creative Cloud membership - worth about $600\n	Adobe SWAG (when meetings resume at MFPL's location)\n\n\nNetwork with like-minded professionals\n\nNo dues or fees
X-ALT-DESC;FMTTYPE=text/html:<table align="left" border="0" cellpadding="0" cellspacing="0" style="width:100%">\n	<tbody>\n		<tr>\n			<td>\n			<table border="0" cellspacing="0" style="width:100%">\n				<tbody>\n					<tr>\n						<td>\n						<p><strong><em>Choosing Focus Keyphrases for SEO</em></strong></p>\n\n						<p>How do you choose the perfect focus keyword&nbsp\;or&nbsp\;key phrase? Although it&#39\;s not&nbsp\;an exact&nbsp\;science\, Kay Guenther\, SAWS Assistant UG Manager\, will show you how to&nbsp\;get started in selecting the best keyphrases to help improve your SEO ranking.</p>\n						</td>\n					</tr>\n				</tbody>\n			</table>\n			</td>\n		</tr>\n	</tbody>\n</table>\n\n<p><strong>Short Program</strong></p>\n\n<p><strong><em>Double Background Images</em></strong></p>\n\n<p>Glyn Barrows\, AAMUG UG Manager\, will show us how to add two images\, one on top of the other\, using CSS. This technique\, developed by Glyn\, is especially beneficial when designing a banner on a website. A must see to understand.<br />\n<br />\n&nbsp\;</p>\n\n<p style="box-sizing: border-box\; margin: 0px 0px 10px\; font-family: Arial\, Helvetica\, Verdana\; font-size: 12px\;">Benefits of joining the meeting:</p>\n\n<p style="box-sizing: border-box\; margin: 0px 0px 10px\; font-family: Arial\, Helvetica\, Verdana\; font-size: 12px\;">Be entered for a chance to win</p>\n\n<ul style="box-sizing: border-box\; margin-top: 0px\; margin-bottom: 10px\; font-family: Arial\, Helvetica\, Verdana\; font-size: 12px\;">\n	<li style="box-sizing: border-box\;">a 12-month Creative Cloud membership - worth about $600</li>\n	<li style="box-sizing: border-box\;">Adobe&nbsp\;SWAG (when meetings resume at MFPL&#39\;s location)</li>\n</ul>\n\n<p style="box-sizing: border-box\; margin: 0px 0px 10px\; font-family: Arial\, Helvetica\, Verdana\; font-size: 12px\;">Network with like-minded professionals<br style="box-sizing: border-box\;" />\nNo dues or fees</p>\n
LOCATION:Online
UID:e.563.25023
SEQUENCE:3
DTSTAMP:20260425T010432Z
URL:http://bulverdechamber-gzcms.preview.gochambermaster.com/events/details/online-adobe-users-group-choosing-focus-keyphrases-for-seo-25023
END:VEVENT

END:VCALENDAR
