BEGIN:VCALENDAR
VERSION:2.0
PRODID:-//ChamberMaster//Event Calendar 2.0//EN
METHOD:PUBLISH
X-PUBLISHED-TTL:P3D
REFRESH-INTERVAL:P3D
CALSCALE:GREGORIAN
BEGIN:VEVENT
DTSTART:20210415T170000Z
DTEND:20210415T180000Z
X-MICROSOFT-CDO-ALLDAYEVENT:FALSE
SUMMARY:Online - Be the Louder Voice
DESCRIPTION:Join Joanie Eaton\, RN\, as she provides information regarding how we can prepare our youth to navigate our highly sexualized culture. Topics will include having age-appropriate discussions about our bodies\, relationships and sex with our children and teens. What role does science and culture play in influencing them and how we can Be the Louder Voice.\n\n \n\nAbout the speaker: Joanie Eaton\, RN is the Nurse Manager of the SHARE (Sexual Health & Reproductive Education) Center in Spring Branch.
X-ALT-DESC;FMTTYPE=text/html:<p><span style="font-size:small"><span style="color:rgb(34\, 34\, 34)"><span style="font-family:arial\,helvetica\,sans-serif">Join Joanie Eaton\, RN\, as she provides information regarding how we can prepare our youth to navigate our highly sexualized culture. Topics will include having age-appropriate discussions about our bodies\, relationships and sex with our children and teens. What role does science and culture play in influencing them and how we can Be the Louder Voice.</span></span></span></p>\n\n<p>&nbsp\;</p>\n\n<p><span style="font-size:small"><span style="color:rgb(34\, 34\, 34)"><span style="font-family:arial\,helvetica\,sans-serif">About the speaker: Joanie Eaton\, RN is the Nurse Manager of the SHARE (Sexual Health &amp\; Reproductive Education) Center in Spring Branch.</span></span></span></p>\n
LOCATION:Online
UID:e.563.25581
SEQUENCE:3
DTSTAMP:20260424T154150Z
URL:http://bulverdechamber-gzcms.preview.gochambermaster.com/events/details/online-be-the-louder-voice-25581
END:VEVENT

END:VCALENDAR
