BEGIN:VCALENDAR
VERSION:2.0
PRODID:-//ChamberMaster//Event Calendar 2.0//EN
METHOD:PUBLISH
X-PUBLISHED-TTL:P3D
REFRESH-INTERVAL:P3D
CALSCALE:GREGORIAN
BEGIN:VEVENT
DTSTART:20201119T190000Z
DTEND:20201119T210000Z
X-MICROSOFT-CDO-ALLDAYEVENT:FALSE
SUMMARY:Online - Calligraphy Styles--Book Words\, Candy Cane Holder & Countdown Calendar
DESCRIPTION:We will practice brush lettering or calligraphy using brush pens\, ink and nib pens\, watercolor using water pens and paint brushes. Rachel will be reviewing the emphasizing strokes\, flourishes and other hand lettering techniques. Please use any supplies you may have from home. \n\n \nPlease print out the handouts from the registration page on the Mammen Family Public Library Calendar. \n\nBasic Supplies\n\n    -smooth paper\n\n    -brush pen/marker\n\n    -classic Crayola\n\n    -ruler\n\n    -pencil \n\nHoliday Countdown Wood Project\n\nWe will be making a Holiday Countdown Wood Project using a pre-stained piece of wood of your choice. So gather your materials and be ready to create.\n\n    -Small pre-stained wood (refer to photo for ideas)\n\n    -Black card stock - You can get some from the Drive-Up Window at the library\n\n    -Glue\n\n    -Classic sharpie or sharpie oil pen\n\n    -Ribbon (seasonal)\n\nBook Spine Words Project\n\nWe also will be decorating books. Choose between deconstructed or covered to make a holiday book. Stop by the lDrive-Up Window and choose between a book with the cover off to put the lettering directly on the spine\, or a  book with the cover on to cover with paper and then decorate. This will be for the next month as well\, so be sure to pick up 2 books total.\n\nOption 1- \n\n    -Book with hardcover\n\n    -Butcher paper -or- Wrapping paper\n\n    Precut (2 in. wider on each side of book)\n\nOption 2-\n\n    -Book without cover to write on binding.\n\nFor both-\n\n    -Classic sharpie or writing tool of choice.\n\nCandy Cane Card Holder\n\n    -Candy cane (small or larger)\n\n    -Ribbon (seasonal)\n\n    -Glue\n\n    -Card stock/thick paper (precut to business card size)\n\n    -Small brush pen\n\n\n	or writing tool of choice\n\n\nWe want you to participate so if you need the printed beginning packet\, monthly handout\, tracing paper\, or smooth paper\, old books\, please stop by the Drive-Up window and ask for what you need. \n\nIf you are new to brush calligraphy\, there is a basic Beginning Brush Lettering course offered the 2nd Tuesday evening of every month\, from 6-7:45pm. In this class\, Rachel will go into depth the nine basic strokes needed to succeed at your calligraphy. So if your schedule permits\, I encourage you to take advantage of Rachel's patient teaching style. Otherwise come to this class and know that we will give out a beginning packet for you to take and practice at home\, but we will not spend a lot of time going over the basic strokes. We will quickly jump into a project of the month.\n\nTo download the Beginner Packet click on the Beginning Calligraphy Calendar Class and you will see it at the bottom.\n\nOpen to all Adults and Teens 13+. Registration required.
X-ALT-DESC;FMTTYPE=text/html:We will practice&nbsp\;brush lettering or calligraphy using brush pens\, ink and nib pens\, watercolor using water pens and paint brushes. Rachel will be reviewing the&nbsp\;emphasizing strokes\, flourishes and other hand lettering techniques. Please use any supplies you may&nbsp\;have from home.&nbsp\;<br />\n&nbsp\;\n<p style="box-sizing: border-box\; margin: 0px 0px 10px\; font-family: Arial\, Helvetica\, Verdana\; font-size: 12px\;"><span style="box-sizing: border-box\; font-weight: 700\;">Please print out the handouts from the registration page on the Mammen Family Public Library Calendar.&nbsp\;</span></p>\n\n<p style="box-sizing: border-box\; margin: 0px 0px 10px\; font-family: Arial\, Helvetica\, Verdana\; font-size: 12px\;"><span style="box-sizing: border-box\; font-weight: 700\;">Basic Supplies</span></p>\n\n<p style="box-sizing: border-box\; margin: 0px 0px 10px\; font-family: Arial\, Helvetica\, Verdana\; font-size: 12px\;">&nbsp\;&nbsp\;&nbsp\;&nbsp\;-smooth paper</p>\n\n<p style="box-sizing: border-box\; margin: 0px 0px 10px\; font-family: Arial\, Helvetica\, Verdana\; font-size: 12px\;">&nbsp\;&nbsp\;&nbsp\;&nbsp\;-brush pen/marker</p>\n\n<p style="box-sizing: border-box\; margin: 0px 0px 10px\; font-family: Arial\, Helvetica\, Verdana\; font-size: 12px\;">&nbsp\;&nbsp\;&nbsp\;&nbsp\;-classic Crayola</p>\n\n<p style="box-sizing: border-box\; margin: 0px 0px 10px\; font-family: Arial\, Helvetica\, Verdana\; font-size: 12px\;">&nbsp\;&nbsp\;&nbsp\;&nbsp\;-ruler</p>\n\n<p style="box-sizing: border-box\; margin: 0px 0px 10px\; font-family: Arial\, Helvetica\, Verdana\; font-size: 12px\;">&nbsp\;&nbsp\;&nbsp\;&nbsp\;-pencil&nbsp\;</p>\n\n<p style="box-sizing: border-box\; margin: 0px 0px 10px\; font-family: Arial\, Helvetica\, Verdana\; font-size: 12px\;"><span style="box-sizing: border-box\; font-weight: 700\;">Holiday Countdown Wood Project</span></p>\n\n<p style="box-sizing: border-box\; margin: 0px 0px 10px\; font-family: Arial\, Helvetica\, Verdana\; font-size: 12px\;">We will be making a Holiday Countdown Wood Project using a pre-stained piece of wood of your choice. So gather your materials and be ready to create.</p>\n\n<p style="box-sizing: border-box\; margin: 0px 0px 10px\; font-family: Arial\, Helvetica\, Verdana\; font-size: 12px\;">&nbsp\;&nbsp\;&nbsp\;&nbsp\;-Small pre-stained wood (refer to photo for ideas)</p>\n\n<p style="box-sizing: border-box\; margin: 0px 0px 10px\; font-family: Arial\, Helvetica\, Verdana\; font-size: 12px\;">&nbsp\;&nbsp\;&nbsp\;&nbsp\;-Black card stock - You can get some from the Drive-Up Window at the library</p>\n\n<p style="box-sizing: border-box\; margin: 0px 0px 10px\; font-family: Arial\, Helvetica\, Verdana\; font-size: 12px\;">&nbsp\;&nbsp\;&nbsp\;&nbsp\;-Glue</p>\n\n<p style="box-sizing: border-box\; margin: 0px 0px 10px\; font-family: Arial\, Helvetica\, Verdana\; font-size: 12px\;">&nbsp\;&nbsp\;&nbsp\;&nbsp\;-Classic sharpie or sharpie oil pen</p>\n\n<p style="box-sizing: border-box\; margin: 0px 0px 10px\; font-family: Arial\, Helvetica\, Verdana\; font-size: 12px\;">&nbsp\;&nbsp\;&nbsp\;&nbsp\;-Ribbon (seasonal)</p>\n\n<p style="box-sizing: border-box\; margin: 0px 0px 10px\; font-family: Arial\, Helvetica\, Verdana\; font-size: 12px\;"><span style="box-sizing: border-box\; font-weight: 700\;">Book Spine Words Project</span></p>\n\n<p style="box-sizing: border-box\; margin: 0px 0px 10px\; font-family: Arial\, Helvetica\, Verdana\; font-size: 12px\;">We also will be decorating books. Choose between deconstructed or covered to make a holiday book. Stop by the lDrive-Up Window and choose between a&nbsp\;book&nbsp\;with the cover&nbsp\;off to put the lettering directly on the spine\, or a&nbsp\; book&nbsp\;with the cover on to cover with paper and then decorate.&nbsp\;This will be for the next&nbsp\;month&nbsp\;as well\, so be sure to pick up 2&nbsp\;books total.</p>\n\n<p style="box-sizing: border-box\; margin: 0px 0px 10px\; font-family: Arial\, Helvetica\, Verdana\; font-size: 12px\;">Option 1-&nbsp\;</p>\n\n<p style="box-sizing: border-box\; margin: 0px 0px 10px\; font-family: Arial\, Helvetica\, Verdana\; font-size: 12px\;">&nbsp\;&nbsp\;&nbsp\;&nbsp\;-Book with hardcover</p>\n\n<p style="box-sizing: border-box\; margin: 0px 0px 10px\; font-family: Arial\, Helvetica\, Verdana\; font-size: 12px\;">&nbsp\;&nbsp\;&nbsp\;&nbsp\;-Butcher paper -or- Wrapping paper</p>\n\n<p style="box-sizing: border-box\; margin: 0px 0px 10px\; font-family: Arial\, Helvetica\, Verdana\; font-size: 12px\;">&nbsp\;&nbsp\;&nbsp\;&nbsp\;Precut (2 in. wider on each side of book)</p>\n\n<p style="box-sizing: border-box\; margin: 0px 0px 10px\; font-family: Arial\, Helvetica\, Verdana\; font-size: 12px\;">Option 2-</p>\n\n<p style="box-sizing: border-box\; margin: 0px 0px 10px\; font-family: Arial\, Helvetica\, Verdana\; font-size: 12px\;">&nbsp\;&nbsp\;&nbsp\;&nbsp\;-Book without cover to write on binding.</p>\n\n<p style="box-sizing: border-box\; margin: 0px 0px 10px\; font-family: Arial\, Helvetica\, Verdana\; font-size: 12px\;">For both-</p>\n\n<p style="box-sizing: border-box\; margin: 0px 0px 10px\; font-family: Arial\, Helvetica\, Verdana\; font-size: 12px\;">&nbsp\;&nbsp\;&nbsp\;&nbsp\;-Classic sharpie or writing tool&nbsp\;of choice.</p>\n\n<p style="box-sizing: border-box\; margin: 0px 0px 10px\; font-family: Arial\, Helvetica\, Verdana\; font-size: 12px\;"><span style="box-sizing: border-box\; font-weight: 700\;">Candy Cane Card Holder</span></p>\n\n<p style="box-sizing: border-box\; margin: 0px 0px 10px\; font-family: Arial\, Helvetica\, Verdana\; font-size: 12px\;">&nbsp\;&nbsp\;&nbsp\;&nbsp\;-Candy cane (small or larger)</p>\n\n<p style="box-sizing: border-box\; margin: 0px 0px 10px\; font-family: Arial\, Helvetica\, Verdana\; font-size: 12px\;">&nbsp\;&nbsp\;&nbsp\;&nbsp\;-Ribbon (seasonal)</p>\n\n<p style="box-sizing: border-box\; margin: 0px 0px 10px\; font-family: Arial\, Helvetica\, Verdana\; font-size: 12px\;">&nbsp\;&nbsp\;&nbsp\;&nbsp\;-Glue</p>\n\n<p style="box-sizing: border-box\; margin: 0px 0px 10px\; font-family: Arial\, Helvetica\, Verdana\; font-size: 12px\;">&nbsp\;&nbsp\;&nbsp\;&nbsp\;-Card stock/thick paper (precut to business card size)</p>\n\n<p style="box-sizing: border-box\; margin: 0px 0px 10px\; font-family: Arial\, Helvetica\, Verdana\; font-size: 12px\;">&nbsp\;&nbsp\;&nbsp\;&nbsp\;-Small brush pen</p>\n\n<ul style="box-sizing: border-box\; margin-top: 0px\; margin-bottom: 10px\; font-family: Arial\, Helvetica\, Verdana\; font-size: 12px\;">\n	<li style="box-sizing: border-box\;">or writing tool of choice</li>\n</ul>\n\n<p style="box-sizing: border-box\; margin: 0px 0px 10px\; font-family: Arial\, Helvetica\, Verdana\; font-size: 12px\;">We want you to participate so if you need the printed beginning packet\, monthly handout\, tracing paper\, or smooth paper\, old books\, please stop by the Drive-Up window and ask for what you need.&nbsp\;</p>\n\n<p style="box-sizing: border-box\; margin: 0px 0px 10px\; font-family: Arial\, Helvetica\, Verdana\; font-size: 12px\;">If you are new to brush calligraphy\, there is a basic Beginning Brush Lettering course offered the 2nd Tuesday evening of every month\, from 6-7:45pm. In this class\, Rachel&nbsp\;will go into depth the nine basic strokes needed to succeed at your calligraphy. So if your schedule permits\, I encourage you to take advantage of Rachel&#39\;s patient teaching style. Otherwise come to this class and know that we will give out a beginning packet for you to take and practice at home\, but we will not spend a lot of time going over the basic strokes. We will quickly jump into a project of the month.</p>\n\n<p style="box-sizing: border-box\; margin: 0px 0px 10px\; font-family: Arial\, Helvetica\, Verdana\; font-size: 12px\;"><span style="box-sizing: border-box\; font-weight: 700\;">To download the Beginner Packet click on the Beginning Calligraphy Calendar Class and you will see it at the bottom.</span></p>\n\n<p style="box-sizing: border-box\; margin: 0px 0px 10px\; font-family: Arial\, Helvetica\, Verdana\; font-size: 12px\;">Open to all Adults and Teens 13+. Registration required.</p>\n
LOCATION:Online
UID:e.563.25034
SEQUENCE:3
DTSTAMP:20260425T010612Z
URL:http://bulverdechamber-gzcms.preview.gochambermaster.com/events/details/online-calligraphy-styles-book-words-candy-cane-holder-countdown-calendar-25034
END:VEVENT

END:VCALENDAR
