BEGIN:VCALENDAR
VERSION:2.0
PRODID:-//ChamberMaster//Event Calendar 2.0//EN
METHOD:PUBLISH
X-PUBLISHED-TTL:P3D
REFRESH-INTERVAL:P3D
CALSCALE:GREGORIAN
BEGIN:VEVENT
DTSTART:20200615T190000Z
DTEND:20200615T203000Z
X-MICROSOFT-CDO-ALLDAYEVENT:FALSE
SUMMARY:Online - Canning 101
DESCRIPTION:Interested in canning? Join Connie Sheppard as she walks us through the process of both water-bath and pressure canning using current recommendations.\n\n \n\nLog into Zoom.us join the Zoom Class Meeting at the appropriate time. You can join by desktop\, laptop\, smartphone or tablet. If you are on a smartphone or tablet download the Zoom Go To Meeting app before clicking on the link provided. If you don't have access to wifi just call in by dialing the highlighted number given. Please allow a few extra minutes at the beginning to download the software/app if it is your first time using Zoom. You will need to let Zoom.us to connect to your device.\n\n \n\nAbout the speaker: \n\nConnie Sheppard is the Texas A&M AgriLife Extension Comal County Coordinator\, a County Extension Agent for Family and Community Health
X-ALT-DESC;FMTTYPE=text/html:<p><span style="font-size:16px">Interested in canning? Join Connie Sheppard as she walks us through the process of both water-bath and pressure canning using current recommendations.</span></p>\n\n<p>&nbsp\;</p>\n\n<p><span style="font-size:16px">Log into Zoom.us join the Zoom Class Meeting at the appropriate time. You can join by desktop\, laptop\, smartphone or tablet. If you are on a smartphone or tablet download the Zoom Go To Meeting app before clicking on the link provided. If you don&#39\;t have access to wifi just call in by dialing the highlighted number given. Please allow a few extra minutes at the beginning to download the software/app if it is your first time using Zoom. You will need to let Zoom.us to connect to your device.</span></p>\n\n<p>&nbsp\;</p>\n\n<p><span style="font-size:16px">About the speaker:&nbsp\;</span></p>\n\n<h2><span style="font-size:16px">Connie Sheppard is the Texas A&amp\;M AgriLife Extension Comal County Coordinator\, a County Extension Agent for&nbsp\;Family and Community Health</span></h2>\n
LOCATION:Online
UID:e.563.24504
SEQUENCE:3
DTSTAMP:20260425T102143Z
URL:http://bulverdechamber-gzcms.preview.gochambermaster.com/events/details/online-canning-101-24504
END:VEVENT

END:VCALENDAR
