BEGIN:VCALENDAR
VERSION:2.0
PRODID:-//ChamberMaster//Event Calendar 2.0//EN
METHOD:PUBLISH
X-PUBLISHED-TTL:P3D
REFRESH-INTERVAL:P3D
CALSCALE:GREGORIAN
BEGIN:VEVENT
DTSTART:20210401T153000Z
DTEND:20210401T183000Z
X-MICROSOFT-CDO-ALLDAYEVENT:FALSE
SUMMARY:Online - Cookbook Demo & Potluck Lunch Club
DESCRIPTION:The library is open for browsing so stop by and pick out your recipe and make a copy of it. For those who can't make it to the library\, Nadine will be holding a Pick-Your-Recipe on the Monday before class and we will go through the book picking a recipe. The recipe will be emailed to you after the class or you can take a screen shot of the recipe\, or photo with your phone.\n\nIf it is your first time participating\, it is not required to bake and share but if you want to please stop by the library\, sign up for the club\, pick a recipe and get it printed.\n\nApril's selection is The Enchilada Queen Cookbook by Sylvia Casares.
X-ALT-DESC;FMTTYPE=text/html:<p>The library is open for browsing so stop by and pick out your recipe and make a copy of it. For those who can&#39\;t make it to the library\, Nadine will be holding a Pick-Your-Recipe on the Monday before class and we will go through the book picking a recipe. The recipe will be emailed to you after the class or you can take a screen shot of the recipe\, or photo with your phone.</p>\n\n<p>If it is your first time participating\, it is not required to bake and share but if you want to please stop by the library\, sign up for the club\, pick a recipe and get it printed.</p>\n\n<p>April&#39\;s selection is&nbsp\;<em>The Enchilada Queen Cookbook by Sylvia Casares.</em></p>\n
LOCATION:Online
UID:e.563.25576
SEQUENCE:3
DTSTAMP:20260424T183617Z
URL:http://bulverdechamber-gzcms.preview.gochambermaster.com/events/details/online-cookbook-demo-potluck-lunch-club-04-01-2021-25576
END:VEVENT

END:VCALENDAR
