BEGIN:VCALENDAR
VERSION:2.0
PRODID:-//ChamberMaster//Event Calendar 2.0//EN
METHOD:PUBLISH
X-PUBLISHED-TTL:P3D
REFRESH-INTERVAL:P3D
CALSCALE:GREGORIAN
BEGIN:VEVENT
DTSTART:20210129T000000Z
DTEND:20210129T013000Z
X-MICROSOFT-CDO-ALLDAYEVENT:FALSE
SUMMARY:Online - How to Self-Publish Your Book for Free
DESCRIPTION:Join Writing Mentor\, Judy Sheer Watters\, as she teaches about how to upload a book on kdp and will also touch on Ingram Spark\, Lulu\, and D2D.\n\n      .\n\nRegistration required to receive an email with Zoom connection information.
X-ALT-DESC;FMTTYPE=text/html:<p>Join Writing Mentor\, Judy Sheer Watters\, as she teaches about how to upload a book on kdp and will also touch on&nbsp\;Ingram Spark\, Lulu\, and D2D.</p>\n\n<p>&nbsp\; &nbsp\; &nbsp\; .</p>\n\n<p>Registration required to receive an email with Zoom connection information.</p>\n
LOCATION:online
UID:e.563.25250
SEQUENCE:3
DTSTAMP:20260424T195836Z
URL:http://bulverdechamber-gzcms.preview.gochambermaster.com/events/details/online-how-to-self-publish-your-book-for-free-25250
END:VEVENT

END:VCALENDAR
