BEGIN:VCALENDAR
VERSION:2.0
PRODID:-//ChamberMaster//Event Calendar 2.0//EN
METHOD:PUBLISH
X-PUBLISHED-TTL:P3D
REFRESH-INTERVAL:P3D
CALSCALE:GREGORIAN
BEGIN:VEVENT
DTSTART:20210420T190000Z
DTEND:20210420T201500Z
X-MICROSOFT-CDO-ALLDAYEVENT:FALSE
SUMMARY:Online - Medicare Made Clear
DESCRIPTION:Do you have questions about Medicare? Join Tom in this workshop where he will teach\, Medicare Made Clear\, an educational presentation to simplify your understanding of the Medicare program.\n\n \n\nAbout the Speaker:\n\nTom Lesnick is the Medicare Advisor and partner at Lesnick Company\, a financial services firm in Boerne\, Texas. He is a retired US Air Force Officer with 20 years of experience in the Health Care industry. He is an independent Medicare Advisor and specializes in offering solutions to seniors residing in the Texas Hill Country\, specifically in Bulverde\, Spring Branch\, Boerne and north towards Kerrville. In addition to being a licensed agent\, he is also a husband of more than 27 years and an aspiring rancher in Bergheim. Tom's goal is to continue connecting people with the best health care available.
X-ALT-DESC;FMTTYPE=text/html:<p>Do you have questions about Medicare? Join Tom in this&nbsp\;workshop where he will teach\, Medicare Made Clear\, an educational&nbsp\;presentation to simplify your understanding of the&nbsp\;Medicare program.</p>\n\n<p>&nbsp\;</p>\n\n<p>About the Speaker:</p>\n\n<p>Tom Lesnick is the Medicare Advisor and partner at Lesnick Company\, a financial services firm in Boerne\, Texas. He is a retired US Air Force Officer with 20 years of experience in the Health Care industry. He is an independent Medicare Advisor and specializes in offering solutions to seniors residing in the Texas Hill Country\, specifically in Bulverde\, Spring Branch\, Boerne and north towards Kerrville. In addition to being a licensed agent\, he is also a husband of more than 27 years and an aspiring rancher in Bergheim. Tom&rsquo\;s goal is to continue connecting people with the best health care available.</p>\n
LOCATION:Online
UID:e.563.25584
SEQUENCE:3
DTSTAMP:20260424T154235Z
URL:http://bulverdechamber-gzcms.preview.gochambermaster.com/events/details/online-medicare-made-clear-04-20-2021-25584
END:VEVENT

END:VCALENDAR
