BEGIN:VCALENDAR
VERSION:2.0
PRODID:-//ChamberMaster//Event Calendar 2.0//EN
METHOD:PUBLISH
X-PUBLISHED-TTL:P3D
REFRESH-INTERVAL:P3D
CALSCALE:GREGORIAN
BEGIN:VEVENT
DTSTART:20201110T180000Z
DTEND:20201110T193000Z
X-MICROSOFT-CDO-ALLDAYEVENT:FALSE
SUMMARY:Online - Medicare Made Clear for Veterans
DESCRIPTION:Are you a veteran and have questions about how Medicare works with your VA or TRICARE benefits?\n\n\n\nJoin Tom in this workshop where he will teach\, Medicare Made Clear\, an educational presentation to simplify your understanding of the Medicare program.\n\n\n\nAbout the Speaker:\n\n\n\nTom Lesnick\, MPA\, FACHE\nLieutenant Colonel\, USAF (Retired)
X-ALT-DESC;FMTTYPE=text/html:<span style="font-size:16px"><span style="font-family:arial\,helvetica\,sans-serif">Are you a veteran and have questions about how Medicare works with your VA or TRICARE benefits?<br />\n<br />\nJoin Tom in this workshop where he will teach\, Medicare Made Clear\, an educational presentation to simplify your understanding of the Medicare program.<br />\n<br />\nAbout the Speaker:<br />\n<br />\nTom Lesnick\, MPA\, FACHE</span></span>\n<p><span style="font-size:16px"><span style="font-family:arial\,helvetica\,sans-serif">Lieutenant Colonel\, USAF (Retired)</span></span></p>\n
LOCATION:Online
UID:e.563.25025
SEQUENCE:3
DTSTAMP:20260425T010612Z
URL:http://bulverdechamber-gzcms.preview.gochambermaster.com/events/details/online-medicare-made-clear-for-veterans-25025
END:VEVENT

END:VCALENDAR
