BEGIN:VCALENDAR
VERSION:2.0
PRODID:-//ChamberMaster//Event Calendar 2.0//EN
METHOD:PUBLISH
X-PUBLISHED-TTL:P3D
REFRESH-INTERVAL:P3D
CALSCALE:GREGORIAN
BEGIN:VEVENT
DTSTART:20201114T160000Z
DTEND:20201114T180000Z
X-MICROSOFT-CDO-ALLDAYEVENT:FALSE
SUMMARY:Online - Quilting Techniques with Lucy
DESCRIPTION:Come learn a technique to stitch a quilt block together following Lucy in her live Zoom class.\n\nThis month Lucy will teach Scrappy Pumpkin Table Runner\n\n \n\nSupplies needed:\n\n\n	A variety of orange fabric scraps (15 scraps\, each about 3  x 8 )\n	brown fabric scraps (each about 3  x 3 )\n	piece of solid white fabric for background (12.5  x 31.5 )\n	piece of fabric for back of table runner (15  x 34 )\n	1/4 yard orange fabric for binding\n	Heat n Bond  Lite EZ Print Lite sheets (3 of them)\n	SpraynBond  Basting Adhesive Spray\n	Thin batting (at least 15  x 34 )\n	Scrappy Pumpkin templates\n\n\nPlease see attachment below for the template.
X-ALT-DESC;FMTTYPE=text/html:<p>Come learn a technique to stitch a quilt block together following Lucy in her live Zoom&nbsp\;class.</p>\n\n<p>This month Lucy will teach&nbsp\;<strong>Scrappy Pumpkin Table Runner</strong></p>\n\n<p>&nbsp\;</p>\n\n<p>Supplies needed:</p>\n\n<ul>\n	<li>A variety of orange fabric scraps (15 scraps\, each about 3&Prime\; x 8&Prime\;)</li>\n	<li>brown fabric scraps (each about 3&Prime\; x 3&Prime\;)</li>\n	<li>piece of solid white fabric for background (12.5&Prime\; x 31.5&Prime\;)</li>\n	<li>piece of fabric for back of table runner (15&Prime\; x 34&Prime\;)</li>\n	<li>1/4 yard orange fabric for binding</li>\n	<li>Heat n Bond&reg\; Lite EZ Print Lite sheets (3 of them)</li>\n	<li>SpraynBond&reg\; Basting Adhesive Spray</li>\n	<li>Thin batting (at least 15&Prime\; x 34&Prime\;)</li>\n	<li>Scrappy Pumpkin templates</li>\n</ul>\n\n<p>Please see attachment below for the template.</p>\n
LOCATION:Online
UID:e.563.25030
SEQUENCE:3
DTSTAMP:20260425T010443Z
URL:http://bulverdechamber-gzcms.preview.gochambermaster.com/events/details/online-quilting-techniques-with-lucy-11-14-2020-25030
END:VEVENT

END:VCALENDAR
