BEGIN:VCALENDAR
VERSION:2.0
PRODID:-//ChamberMaster//Event Calendar 2.0//EN
METHOD:PUBLISH
X-PUBLISHED-TTL:P3D
REFRESH-INTERVAL:P3D
CALSCALE:GREGORIAN
BEGIN:VEVENT
DTSTART:20240323T153000Z
DTEND:20240323T163000Z
X-MICROSOFT-CDO-ALLDAYEVENT:FALSE
SUMMARY:Plant Swap
DESCRIPTION:Celebrate the start of spring by joining us for a plant swap at Mammen Family Public Library! Bring plants\, cuttings\, seedlings\, seeds\, or usable pots/planters that you would like to share with other plant enthusiasts. Drop by the library anytime from 10:30am-11:30am on Saturday\, March 23rd to exchange your plant items. Please ensure that the plant items you bring are pest-free and labeled if possible.\n\n\n\nCheck out the library's calendar page for more details.
X-ALT-DESC;FMTTYPE=text/html:<p><span style="color:rgb(68\, 68\, 68)\; font-family:open sans\,sans-serif\; font-size:16px">Celebrate the start of spring by joining us for a plant swap at Mammen Family Public Library!&nbsp\;Bring plants\, cuttings\, seedlings\, seeds\, or usable pots/planters that you would like to share with other plant enthusiasts. Drop by the library anytime from 10:30am-11:30am on Saturday\, March 23rd to exchange your plant items. Please ensure that the plant items you bring are pest-free and labeled if possible.<br />\n<br />\nCheck out the <a href="https://mammen.librarycalendar.com/event/plant-swap-20201">library&#39\;s calendar page</a> for more details.</span></p>\n
LOCATION:Mammen Family Public Library
UID:e.563.35350
SEQUENCE:3
DTSTAMP:20260420T093302Z
URL:http://bulverdechamber-gzcms.preview.gochambermaster.com/events/details/plant-swap-03-23-2024-35350
END:VEVENT

END:VCALENDAR
