BEGIN:VCALENDAR
VERSION:2.0
PRODID:-//ChamberMaster//Event Calendar 2.0//EN
METHOD:PUBLISH
X-PUBLISHED-TTL:P3D
REFRESH-INTERVAL:P3D
CALSCALE:GREGORIAN
BEGIN:VEVENT
DTSTART:20220921T223000Z
DTEND:20220922T003000Z
X-MICROSOFT-CDO-ALLDAYEVENT:FALSE
SUMMARY:Real Estate Agent Safety Course
DESCRIPTION:Real estate agents face a high risk of violent encounters in the workplace\, more so than many other professions. \n\n\n\nBuck & Doe's Mercantile and Instructor\, Kari Grayson\, now offers USCCA's highly specific course to address this reality.  Come learn more about situational awareness\, legal use of force\, cell phone safety features and apps\, defensive options\, and other ways to reduce the risks of an attack.\n\n\n\nYou'll be better prepared after attending this 2 hour course.
X-ALT-DESC;FMTTYPE=text/html:<span style="font-size:14px\;"><span style="font-family:verdana\;">Real estate agents face a high risk of violent encounters in the workplace\, more so than many other professions.&nbsp\;<br />\n<br />\nBuck &amp\; Doe&rsquo\;s Mercantile and Instructor\, Kari Grayson\, now offers USCCA&rsquo\;s highly specific course to address this reality.&nbsp\; Come learn more about situational awareness\, legal use of force\, cell phone safety features and apps\, defensive options\, and other ways to reduce the risks of an attack.<br />\n<br />\nYou&rsquo\;ll be better prepared after attending this 2 hour course.</span></span><br />\n&nbsp\;
LOCATION:Buck & Doe's Mercantile
UID:e.563.27679
SEQUENCE:3
DTSTAMP:20260422T183616Z
URL:http://bulverdechamber-gzcms.preview.gochambermaster.com/events/details/real-estate-agent-safety-course-27679
END:VEVENT

END:VCALENDAR
