BEGIN:VCALENDAR
VERSION:2.0
PRODID:-//ChamberMaster//Event Calendar 2.0//EN
METHOD:PUBLISH
X-PUBLISHED-TTL:P3D
REFRESH-INTERVAL:P3D
CALSCALE:GREGORIAN
BEGIN:VEVENT
DTSTART:20220505T223000Z
DTEND:20220505T230000Z
X-MICROSOFT-CDO-ALLDAYEVENT:FALSE
SUMMARY:Ribbon Cutting for AVT Enterprises\, Inc.
DESCRIPTION:Ribbon Cutting for\n\nAVT Enterprises\, Inc.\n\nThursday\, May 5\, 2022 at 5:30 pm\n\n1348 Heimer-Lange Rd.\n\nSpring Branch\, TX 78070\n\n830-885-7744\n\noffice@avtenterprisesinc.com
X-ALT-DESC;FMTTYPE=text/html:Ribbon Cutting for<br />\n<span style="font-size:18px\;"><strong>AVT Enterprises\, Inc.</strong></span><br />\nThursday\, May 5\, 2022 at 5:30 pm<br />\n1348 Heimer-Lange Rd.<br />\nSpring Branch\, TX 78070<br />\n830-885-7744<br />\noffice@avtenterprisesinc.com<br />\n&nbsp\;
LOCATION:1348 Heimer-Lange Rd Spring Branch\, 78070
UID:e.563.27315
SEQUENCE:3
DTSTAMP:20260423T070543Z
URL:http://bulverdechamber-gzcms.preview.gochambermaster.com/events/details/ribbon-cutting-for-avt-enterprises-inc-27315
END:VEVENT

END:VCALENDAR
