BEGIN:VCALENDAR
VERSION:2.0
PRODID:-//ChamberMaster//Event Calendar 2.0//EN
METHOD:PUBLISH
X-PUBLISHED-TTL:P3D
REFRESH-INTERVAL:P3D
CALSCALE:GREGORIAN
BEGIN:VEVENT
DTSTART:20210202T173000Z
DTEND:20210202T180500Z
X-MICROSOFT-CDO-ALLDAYEVENT:FALSE
SUMMARY:Ribbon Cutting for BSB Activity Center
DESCRIPTION:Ribbon Cutting for\n\nBSB Activity Center\n\nTuesday\, February 2\, 2021 at 11:30 am\n\nCelebrating the NEW EGYM Exercise Equipment\n\n30280 Cougar Bend\n\nBulverde\, TX 78163\n\n830-438-3111\n\njrosario@bsbac.com\n\nwww.bsbac.com
X-ALT-DESC;FMTTYPE=text/html:Ribbon Cutting for<br />\n<span style="font-size:18px\;"><strong>BSB Activity Center</strong></span><br />\nTuesday\, February 2\, 2021 at 11:30 am<br />\nCelebrating the NEW EGYM Exercise Equipment<br />\n30280 Cougar Bend<br />\nBulverde\, TX 78163<br />\n830-438-3111<br />\njrosario@bsbac.com<br />\nwww.bsbac.com
LOCATION:30280 Cougar Bend Bulverde\, TX 78163
UID:e.563.25252
SEQUENCE:3
DTSTAMP:20260424T195215Z
URL:http://bulverdechamber-gzcms.preview.gochambermaster.com/events/details/ribbon-cutting-for-bsb-activity-center-25252
END:VEVENT

END:VCALENDAR
