BEGIN:VCALENDAR
VERSION:2.0
PRODID:-//ChamberMaster//Event Calendar 2.0//EN
METHOD:PUBLISH
X-PUBLISHED-TTL:P3D
REFRESH-INTERVAL:P3D
CALSCALE:GREGORIAN
BEGIN:VEVENT
DTSTART:20211221T173000Z
DTEND:20211221T180000Z
X-MICROSOFT-CDO-ALLDAYEVENT:FALSE
SUMMARY:Ribbon Cutting for Devine Wine Bar
DESCRIPTION:Ribbon Cutting for\n\nDevine Wine Bar\n\nTuesday\, December 21\, 2021 at 11:30 am\n\n17080 TX 46 W\n\nSpring Branch\, TX 78070\n\n830-460-3317\n\ntzillmann@aol.com
X-ALT-DESC;FMTTYPE=text/html:<span style="color: rgb(98\, 98\, 103)\; font-family: Arial\, Helvetica\, sans-serif\; font-size: 14px\;">Ribbon Cutting for</span><br style="box-sizing: border-box\; color: rgb(98\, 98\, 103)\; font-family: Arial\, Helvetica\, sans-serif\; font-size: 14px\;">\n<span style="box-sizing: border-box\; color: rgb(98\, 98\, 103)\; font-family: Arial\, Helvetica\, sans-serif\; font-size: 16px\;"><span style="font-weight: bolder\; box-sizing: border-box\;">Devine Wine Bar</span></span><br style="box-sizing: border-box\; color: rgb(98\, 98\, 103)\; font-family: Arial\, Helvetica\, sans-serif\; font-size: 14px\;">\n<span style="color: rgb(98\, 98\, 103)\; font-family: Arial\, Helvetica\, sans-serif\; font-size: 14px\;">Tuesday\, December 21\, 2021 at 11:30 am</span><br style="box-sizing: border-box\; color: rgb(98\, 98\, 103)\; font-family: Arial\, Helvetica\, sans-serif\; font-size: 14px\;">\n<span style="color: rgb(98\, 98\, 103)\; font-family: Arial\, Helvetica\, sans-serif\; font-size: 14px\;">17080 TX 46 W</span><br style="box-sizing: border-box\; color: rgb(98\, 98\, 103)\; font-family: Arial\, Helvetica\, sans-serif\; font-size: 14px\;">\n<span style="color: rgb(98\, 98\, 103)\; font-family: Arial\, Helvetica\, sans-serif\; font-size: 14px\;">Spring Branch\, TX 78070</span><br style="box-sizing: border-box\; color: rgb(98\, 98\, 103)\; font-family: Arial\, Helvetica\, sans-serif\; font-size: 14px\;">\n<span style="color: rgb(98\, 98\, 103)\; font-family: Arial\, Helvetica\, sans-serif\; font-size: 14px\;">830-460-3317</span><br style="box-sizing: border-box\; color: rgb(98\, 98\, 103)\; font-family: Arial\, Helvetica\, sans-serif\; font-size: 14px\;">\n<a context="emailMenuOne" email="tzillmann@aol.com" memid="4302" repid="6251">tzillmann@aol.com</a>
LOCATION:17080 TX 46 W Spring Branch\, TX 78070
UID:e.563.26619
SEQUENCE:3
DTSTAMP:20260424T012652Z
URL:http://bulverdechamber-gzcms.preview.gochambermaster.com/events/details/ribbon-cutting-for-devine-wine-bar-26619
END:VEVENT

END:VCALENDAR
