BEGIN:VCALENDAR
VERSION:2.0
PRODID:-//ChamberMaster//Event Calendar 2.0//EN
METHOD:PUBLISH
X-PUBLISHED-TTL:P3D
REFRESH-INTERVAL:P3D
CALSCALE:GREGORIAN
BEGIN:VEVENT
DTSTART:20211104T223000Z
DTEND:20211104T230000Z
X-MICROSOFT-CDO-ALLDAYEVENT:FALSE
SUMMARY:Ribbon Cutting for Payroll Vault
DESCRIPTION:Ribbon Cutting for\n\nPayroll Vault\n\nThursday\, November 4\, 2021 at 5:30 pm\n\nThe Ribbon Cutting will take place at the Lobby of the Visitor's Center of the Hampton Hotel.\n\n499 Singing Oaks\n\nSpring Branch\, TX 78070\n\nClint or Lisa Blundon\n\n830-299-3989\n\nclint.blundon@payrollvault.com\n\nwww.payrollvault.com/183
X-ALT-DESC;FMTTYPE=text/html:Ribbon Cutting for<br />\n<span style="font-size:18px\;"><strong>Payroll Vault</strong></span><br />\nThursday\, November 4\, 2021 at 5:30 pm<br />\nThe Ribbon Cutting will take place at the Lobby of the Visitor&#39\;s Center of the Hampton Hotel.<br />\n499 Singing Oaks<br />\nSpring Branch\, TX 78070<br />\nClint or Lisa Blundon<br />\n830-299-3989<br />\nclint.blundon@payrollvault.com<br />\nwww.payrollvault.com/183
LOCATION:Hampton Hotel - Lobby of Visitor's Center 499 Singing Oaks Spring Branch\, TX 78070
UID:e.563.26390
SEQUENCE:3
DTSTAMP:20260424T011109Z
URL:http://bulverdechamber-gzcms.preview.gochambermaster.com/events/details/ribbon-cutting-for-payroll-vault-26390
END:VEVENT

END:VCALENDAR
