BEGIN:VCALENDAR
VERSION:2.0
PRODID:-//ChamberMaster//Event Calendar 2.0//EN
METHOD:PUBLISH
X-PUBLISHED-TTL:P3D
REFRESH-INTERVAL:P3D
CALSCALE:GREGORIAN
BEGIN:VEVENT
DTSTART:20210930T223000Z
DTEND:20210930T230000Z
X-MICROSOFT-CDO-ALLDAYEVENT:FALSE
SUMMARY:Ribbon Cutting for Piazza Insurance Farmers Agency
DESCRIPTION:Ribbon Cutting for\n\nPiazza Insurance Farmers Agency\n\nThursday\, September 30\, 2021 at 5:30 pm\n\n29710 US Hwy 281 N\, Ste 101\n\nBulverde\, TX 78163\n\n210-775-0572\n\nSheila M Piazza - smasterson@farmersagent.com\n\nwww.farmersagent.com/smasterson
X-ALT-DESC;FMTTYPE=text/html:Ribbon Cutting for<br />\n<span style="font-size:16px\;"><strong>Piazza Insurance Farmers Agency</strong></span><br />\nThursday\, September 30\, 2021 at 5:30 pm<br />\n29710 US Hwy 281 N\, Ste 101<br />\nBulverde\, TX 78163<br />\n210-775-0572<br />\nSheila M Piazza - smasterson@farmersagent.com<br />\nwww.farmersagent.com/smasterson<br />\n&nbsp\;
LOCATION:29710 US Hwy 281 N\, Ste 101 Bulverde\, TX 78163
UID:e.563.26292
SEQUENCE:3
DTSTAMP:20260424T053618Z
URL:http://bulverdechamber-gzcms.preview.gochambermaster.com/events/details/ribbon-cutting-for-piazza-insurance-farmers-agency-26292
END:VEVENT

END:VCALENDAR
