BEGIN:VCALENDAR
VERSION:2.0
PRODID:-//ChamberMaster//Event Calendar 2.0//EN
METHOD:PUBLISH
X-PUBLISHED-TTL:P3D
REFRESH-INTERVAL:P3D
CALSCALE:GREGORIAN
BEGIN:VEVENT
DTSTART:20201222T173000Z
DTEND:20201222T180000Z
X-MICROSOFT-CDO-ALLDAYEVENT:FALSE
SUMMARY:Ribbon Cutting for Ruiz Ranch Motors
DESCRIPTION:Ribbon Cutting for\n\nRuiz Ranch Motors\n\nTuesday\, December 22\, 2020 at 11:30 am\n\n4820 US Hwy 281 N\n\nSpring Branch\, TX 78070\n\n830-438-4403\n\nRuizRanchTX@gmail.com\n\nwww.ruizranchmotors.com
X-ALT-DESC;FMTTYPE=text/html:Ribbon Cutting for<br />\n<span style="font-size:18px\;"><strong>Ruiz Ranch Motors</strong></span><br />\nTuesday\, December 22\, 2020 at 11:30 am<br />\n4820 US Hwy 281 N<br />\nSpring Branch\, TX 78070<br />\n830-438-4403<br />\nRuizRanchTX@gmail.com<br />\nwww.ruizranchmotors.com
LOCATION:4820 US Hwy 281 N Spring Branch\, TX 78070
UID:e.563.25129
SEQUENCE:3
DTSTAMP:20260425T011411Z
URL:http://bulverdechamber-gzcms.preview.gochambermaster.com/events/details/ribbon-cutting-for-ruiz-ranch-motors-25129
END:VEVENT

END:VCALENDAR
