BEGIN:VCALENDAR
VERSION:2.0
PRODID:-//ChamberMaster//Event Calendar 2.0//EN
METHOD:PUBLISH
X-PUBLISHED-TTL:P3D
REFRESH-INTERVAL:P3D
CALSCALE:GREGORIAN
BEGIN:VEVENT
DTSTART:20200104T170000Z
DTEND:20200104T173000Z
X-MICROSOFT-CDO-ALLDAYEVENT:FALSE
SUMMARY:Ribbon Cutting for The Field House
DESCRIPTION:Ribbon Cutting for\nThe Field House - NEW OWNERSHIP\nSaturday\, January 4\, 2020 at 11:00 am\n\n121 Bulverde Crossing #112\n\nBulverde\, TX 78163\n\n830-438-3334\n\nthefieldhousetx@gmail.com\n\nwww.thefieldhousetx.com
X-ALT-DESC;FMTTYPE=text/html:Ribbon Cutting for\n<h2 style="font-style:italic\;">The Field House - NEW OWNERSHIP</h2>\nSaturday\, January 4\, 2020 at 11:00 am<br />\n121 Bulverde Crossing #112<br />\nBulverde\, TX 78163<br />\n830-438-3334<br />\nthefieldhousetx@gmail.com<br />\nwww.thefieldhousetx.com
LOCATION:121 Bulverde Crossing #112 Bulverde\, TX 78163
UID:e.563.23897
SEQUENCE:3
DTSTAMP:20260425T192613Z
URL:http://bulverdechamber-gzcms.preview.gochambermaster.com/events/details/ribbon-cutting-for-the-field-house-23897
END:VEVENT

END:VCALENDAR
