BEGIN:VCALENDAR
VERSION:2.0
PRODID:-//ChamberMaster//Event Calendar 2.0//EN
METHOD:PUBLISH
X-PUBLISHED-TTL:P3D
REFRESH-INTERVAL:P3D
CALSCALE:GREGORIAN
BEGIN:VEVENT
DTSTART;VALUE=DATE:20201121
DTEND;VALUE=DATE:20201122
TRANSP:TRANSPARENT
X-MICROSOFT-CDO-ALLDAYEVENT:TRUE
SUMMARY:Screen Free Saturday Craft Kit for Adults and Teens.-Yarn Garden Bird
DESCRIPTION:Turn off those screens and tap into your creative side! Make a lovely little Autumn yarn bird to adorn wreaths or tablescapes. Supplies and step-by-step instructions will be provided and will be available to pick up beginning Saturday\, November 21st. Registration is required.
X-ALT-DESC;FMTTYPE=text/html:Turn off those screens and tap into your creative side! Make a lovely little Autumn&nbsp\;yarn bird to adorn wreaths or tablescapes.&nbsp\;Supplies and step-by-step instructions&nbsp\;will be provided and will be available to pick up beginning Saturday\, November&nbsp\;21st. <a href="https://mfplibrary.libcal.com/event/7245685">Registration is required.</a>
LOCATION:Take Home craft
UID:e.563.25035
SEQUENCE:3
DTSTAMP:20260425T010805Z
URL:http://bulverdechamber-gzcms.preview.gochambermaster.com/events/details/screen-free-saturday-craft-kit-for-adults-and-teens-yarn-garden-bird-25035
END:VEVENT

END:VCALENDAR
