BEGIN:VCALENDAR
VERSION:2.0
PRODID:-//ChamberMaster//Event Calendar 2.0//EN
METHOD:PUBLISH
X-PUBLISHED-TTL:P3D
REFRESH-INTERVAL:P3D
CALSCALE:GREGORIAN
BEGIN:VEVENT
DTSTART:20220730T000000Z
DTEND:20220730T040000Z
X-MICROSOFT-CDO-ALLDAYEVENT:FALSE
SUMMARY:Shaw Revolver Live That Place on Blanco Friday July 29 7-11pm
DESCRIPTION:Great times great band at that Place On Blanco live at 7 PM Shaw Revolver\, July 29 7PM to 11PM\n\n\n\nTotally amazing food on the food truck! \n\nWe open at 11am
X-ALT-DESC;FMTTYPE=text/html:<p><br />\nGreat times great band at that Place On Blanco live at 7 PM Shaw Revolver\, July 29 7PM to 11PM<br />\n<br />\nTotally amazing food on the food truck!&nbsp\;</p>\n\n<p>We open at 11am&nbsp\;</p>\n
LOCATION:That Place on Blanco
UID:e.563.27652
SEQUENCE:3
DTSTAMP:20260422T223725Z
URL:http://bulverdechamber-gzcms.preview.gochambermaster.com/events/details/shaw-revolver-live-that-place-on-blanco-friday-july-29-7-11pm-27652
END:VEVENT

END:VCALENDAR
