BEGIN:VCALENDAR
VERSION:2.0
PRODID:-//ChamberMaster//Event Calendar 2.0//EN
METHOD:PUBLISH
X-PUBLISHED-TTL:P3D
REFRESH-INTERVAL:P3D
CALSCALE:GREGORIAN
BEGIN:VEVENT
DTSTART:20210507T220000Z
DTEND:20210508T020000Z
X-MICROSOFT-CDO-ALLDAYEVENT:FALSE
SUMMARY:Steak Night & Live Music with Allora Leonard\, Friday May 7\, 5-9pm at Rough Diamond Brewery
DESCRIPTION:Our first Mother's Day weekend event starts with Steak Night by American Heirloom Food Truck and live music with Allora Leonard\, Friday\, May 7 from 5-9pm. \nAllora Leonard is a 16 year old Texas native and part time Pagosa Springs\, CO resident who began her musical career at the tender age of 9. From singing the National Anthem at rodeos to performing in musicals and playing in bars\, Allora has enjoyed sharing her love for singing with a wide array of people. New York City was introduced to Allora in the fall of 2019 as she performed on Broadway at both Lincoln Center and the famous Birdland Jazz Club.\n\nShe spent the next winter in Nashville performing in famous venues such as the Bluebird Cafe\, Douglas Corner\, The Commodore\, Margaritaville\, and Puckett's. Allora was blessed to share the stage with Gary Morris at his concert in Tennessee in December 2019. To her surprise\, award-winning country artist Randy Travis\, was in the audience that night and greatly encouraged her to pursue her musical journey. Allora intends to do just that as she continues to write and perform the neo-traditional country songs she loves so much. She has also released her first EP "Old Soul Girl.
X-ALT-DESC;FMTTYPE=text/html:<div>Our first Mother&#39\;s Day weekend event starts with Steak Night by American Heirloom Food Truck and live music with Allora Leonard\, Friday\, May 7 from 5-9pm.&nbsp\;\n<p>Allora Leonard is a 16 year old Texas native and part time Pagosa Springs\, CO resident who began her musical career at the tender age of 9. From singing the National Anthem at rodeos to performing in musicals and playing in bars\, Allora has enjoyed sharing her love for singing with a wide array of people. New York City was introduced to Allora in the fall of 2019 as she performed on Broadway at both Lincoln Center and the famous Birdland Jazz Club.</p>\n\n<p>She spent the next winter in Nashville performing in famous venues such as the Bluebird Cafe\, Douglas Corner\, The Commodore\, Margaritaville\, and Puckett&rsquo\;s. Allora was blessed to share the stage with Gary Morris at his concert in Tennessee in December 2019. To her surprise\, award-winning country artist Randy Travis\, was in the audience that night and greatly encouraged her to pursue her musical journey. Allora intends to do just that as she continues to write and perform the neo-traditional country songs she loves so much. She has also released her first EP &quot\;Old Soul Girl.&nbsp\;</p>\n</div>\n
LOCATION:Rough Diamond Brewery
UID:e.563.25668
SEQUENCE:3
DTSTAMP:20260424T134833Z
URL:http://bulverdechamber-gzcms.preview.gochambermaster.com/events/details/steak-night-live-music-with-allora-leonard-friday-may-7-5-9pm-at-rough-diamond-brewery-25668
END:VEVENT

END:VCALENDAR
