BEGIN:VCALENDAR
VERSION:2.0
PRODID:-//ChamberMaster//Event Calendar 2.0//EN
METHOD:PUBLISH
X-PUBLISHED-TTL:P3D
REFRESH-INTERVAL:P3D
CALSCALE:GREGORIAN
BEGIN:VEVENT
DTSTART;VALUE=DATE:20221007
DTEND;VALUE=DATE:20221010
TRANSP:TRANSPARENT
X-MICROSOFT-CDO-ALLDAYEVENT:TRUE
SUMMARY:This Weekend at That Place On Blanco
DESCRIPTION:Here is the schedule for our live music at That Place On Blanco.\n\n	10/7- Frio Rio at 7-11pm\n	10/8- Zach Talbert at 7-10pm\n	!0/9- Bobby Beal at 1-4pm\n	10/9- Barrett Paul at 5-9pm
X-ALT-DESC;FMTTYPE=text/html:Here is the schedule for our live music at That Place On Blanco.\n<ul>\n	<li>10/7- Frio Rio at 7-11pm</li>\n	<li>10/8- Zach Talbert at 7-10pm</li>\n	<li>!0/9- Bobby Beal at 1-4pm</li>\n	<li>10/9- Barrett Paul at 5-9pm</li>\n</ul>\n
LOCATION:That Place On Blanco 33855 Blanco Rd.\, Bulverde TX 78163
UID:e.563.28156
SEQUENCE:3
DTSTAMP:20260422T120133Z
URL:http://bulverdechamber-gzcms.preview.gochambermaster.com/events/details/this-weekend-at-that-place-on-blanco-10-07-2022-28156
END:VEVENT

END:VCALENDAR
