BEGIN:VCALENDAR
VERSION:2.0
PRODID:-//ChamberMaster//Event Calendar 2.0//EN
METHOD:PUBLISH
X-PUBLISHED-TTL:P3D
REFRESH-INTERVAL:P3D
CALSCALE:GREGORIAN
BEGIN:VEVENT
DTSTART:20240322T000000Z
DTEND:20240322T020000Z
X-MICROSOFT-CDO-ALLDAYEVENT:FALSE
SUMMARY:Trivia Night at In Contrada Vineyard
DESCRIPTION:Join Us for Trivia Night at In Contrada Vineyard! Put your knowledge to the test at our upcoming Trivia Night! Gather your friends and family for an evening of fun\, laughter\, and friendly competition.\n\n\n\nReservations Required! All trivia participants will receive 15% off of their bill. Prizes for the winning team! Don't miss out on this exciting event.\n\n\n\nReserve your spot today and get ready for a memorable evening at In Contrada Vineyard!
X-ALT-DESC;FMTTYPE=text/html:Join Us for Trivia Night at In Contrada Vineyard! Put your knowledge to the test at our upcoming Trivia Night! Gather your friends and family for an evening of fun\, laughter\, and friendly competition.<br />\n<br />\nReservations Required! All trivia participants will receive 15% off of their bill. Prizes for the winning team! Don&#39\;t miss out on this exciting event.<br />\n<br />\nReserve your spot today and get ready for a memorable evening at In Contrada Vineyard!
LOCATION:In Contrada Vineyard & Kitchen
UID:e.563.35460
SEQUENCE:3
DTSTAMP:20260420T093156Z
URL:http://bulverdechamber-gzcms.preview.gochambermaster.com/events/details/trivia-night-at-in-contrada-vineyard-35460
END:VEVENT

END:VCALENDAR
