BEGIN:VCALENDAR
VERSION:2.0
PRODID:-//ChamberMaster//Event Calendar 2.0//EN
METHOD:PUBLISH
X-PUBLISHED-TTL:P3D
REFRESH-INTERVAL:P3D
CALSCALE:GREGORIAN
BEGIN:VEVENT
DTSTART:20230205T000000Z
DTEND:20230205T013000Z
X-MICROSOFT-CDO-ALLDAYEVENT:FALSE
SUMMARY:Valentine Date Night
DESCRIPTION:Grab your sweetheart and join us as we handcraft two Valentine inspired cocktails.  Share a bite of our custom charcuterie provided with this event. Booking is for two participants.
X-ALT-DESC;FMTTYPE=text/html:Grab your sweetheart and join us as we handcraft two Valentine inspired cocktails.&nbsp\; Share a bite of our custom charcuterie provided with this event. Booking is for two participants.
LOCATION:
UID:e.563.28699
SEQUENCE:3
DTSTAMP:20260421T210247Z
URL:http://bulverdechamber-gzcms.preview.gochambermaster.com/events/details/valentine-date-night-28699
END:VEVENT

END:VCALENDAR
